BEGIN:VCALENDAR
VERSION:2.0
PRODID:-//Ephraim Yacht Club - ECPv6.15.20//NONSGML v1.0//EN
CALSCALE:GREGORIAN
METHOD:PUBLISH
X-WR-CALNAME:Ephraim Yacht Club
X-ORIGINAL-URL:https://www.eyc.org
X-WR-CALDESC:Events for Ephraim Yacht Club
REFRESH-INTERVAL;VALUE=DURATION:PT1H
X-Robots-Tag:noindex
X-PUBLISHED-TTL:PT1H
BEGIN:VTIMEZONE
TZID:America/Chicago
BEGIN:DAYLIGHT
TZOFFSETFROM:-0600
TZOFFSETTO:-0500
TZNAME:CDT
DTSTART:20250309T080000
END:DAYLIGHT
BEGIN:STANDARD
TZOFFSETFROM:-0500
TZOFFSETTO:-0600
TZNAME:CST
DTSTART:20251102T070000
END:STANDARD
BEGIN:DAYLIGHT
TZOFFSETFROM:-0600
TZOFFSETTO:-0500
TZNAME:CDT
DTSTART:20260308T080000
END:DAYLIGHT
BEGIN:STANDARD
TZOFFSETFROM:-0500
TZOFFSETTO:-0600
TZNAME:CST
DTSTART:20261101T070000
END:STANDARD
BEGIN:DAYLIGHT
TZOFFSETFROM:-0600
TZOFFSETTO:-0500
TZNAME:CDT
DTSTART:20270314T080000
END:DAYLIGHT
BEGIN:STANDARD
TZOFFSETFROM:-0500
TZOFFSETTO:-0600
TZNAME:CST
DTSTART:20271107T070000
END:STANDARD
END:VTIMEZONE
BEGIN:VEVENT
DTSTART;TZID=America/Chicago:20260612T180000
DTEND;TZID=America/Chicago:20260612T200000
DTSTAMP:20260420T033501
CREATED:20260224T210836Z
LAST-MODIFIED:20260224T210836Z
UID:10001322-1781287200-1781294400@www.eyc.org
SUMMARY:Friday RS Tera / 420 / ILCA/ ILCA Master's Series Races
DESCRIPTION:Master’s Series held on alternating weeks in conjunction with Laser races \nNo race 7/31
URL:https://www.eyc.org/event/friday-rs-tera-420-ilca-ilca-masters-series-races/2026-06-12/
CATEGORIES:420,Racing,RS Tera
END:VEVENT
BEGIN:VEVENT
DTSTART;TZID=America/Chicago:20260619T180000
DTEND;TZID=America/Chicago:20260619T200000
DTSTAMP:20260420T033501
CREATED:20260224T210836Z
LAST-MODIFIED:20260224T210836Z
UID:10001323-1781892000-1781899200@www.eyc.org
SUMMARY:Friday RS Tera / 420 / ILCA/ ILCA Master's Series Races
DESCRIPTION:Master’s Series held on alternating weeks in conjunction with Laser races \nNo race 7/31
URL:https://www.eyc.org/event/friday-rs-tera-420-ilca-ilca-masters-series-races/2026-06-19/
CATEGORIES:420,Racing,RS Tera
END:VEVENT
BEGIN:VEVENT
DTSTART;TZID=America/Chicago:20260626T180000
DTEND;TZID=America/Chicago:20260626T200000
DTSTAMP:20260420T033501
CREATED:20260224T210836Z
LAST-MODIFIED:20260224T210836Z
UID:10001324-1782496800-1782504000@www.eyc.org
SUMMARY:Friday RS Tera / 420 / ILCA/ ILCA Master's Series Races
DESCRIPTION:Master’s Series held on alternating weeks in conjunction with Laser races \nNo race 7/31
URL:https://www.eyc.org/event/friday-rs-tera-420-ilca-ilca-masters-series-races/2026-06-26/
CATEGORIES:420,Racing,RS Tera
END:VEVENT
BEGIN:VEVENT
DTSTART;TZID=America/Chicago:20260703T180000
DTEND;TZID=America/Chicago:20260703T200000
DTSTAMP:20260420T033501
CREATED:20260224T210836Z
LAST-MODIFIED:20260224T210836Z
UID:10001325-1783101600-1783108800@www.eyc.org
SUMMARY:Friday RS Tera / 420 / ILCA/ ILCA Master's Series Races
DESCRIPTION:Master’s Series held on alternating weeks in conjunction with Laser races \nNo race 7/31
URL:https://www.eyc.org/event/friday-rs-tera-420-ilca-ilca-masters-series-races/2026-07-03/
CATEGORIES:420,Racing,RS Tera
END:VEVENT
BEGIN:VEVENT
DTSTART;TZID=America/Chicago:20260710T180000
DTEND;TZID=America/Chicago:20260710T200000
DTSTAMP:20260420T033501
CREATED:20260224T210836Z
LAST-MODIFIED:20260224T210836Z
UID:10001326-1783706400-1783713600@www.eyc.org
SUMMARY:Friday RS Tera / 420 / ILCA/ ILCA Master's Series Races
DESCRIPTION:Master’s Series held on alternating weeks in conjunction with Laser races \nNo race 7/31
URL:https://www.eyc.org/event/friday-rs-tera-420-ilca-ilca-masters-series-races/2026-07-10/
CATEGORIES:420,Racing,RS Tera
END:VEVENT
BEGIN:VEVENT
DTSTART;TZID=America/Chicago:20260717T180000
DTEND;TZID=America/Chicago:20260717T200000
DTSTAMP:20260420T033501
CREATED:20260224T210836Z
LAST-MODIFIED:20260224T210836Z
UID:10001327-1784311200-1784318400@www.eyc.org
SUMMARY:Friday RS Tera / 420 / ILCA/ ILCA Master's Series Races
DESCRIPTION:Master’s Series held on alternating weeks in conjunction with Laser races \nNo race 7/31
URL:https://www.eyc.org/event/friday-rs-tera-420-ilca-ilca-masters-series-races/2026-07-17/
CATEGORIES:420,Racing,RS Tera
END:VEVENT
BEGIN:VEVENT
DTSTART;TZID=America/Chicago:20260724T180000
DTEND;TZID=America/Chicago:20260724T200000
DTSTAMP:20260420T033501
CREATED:20260224T210836Z
LAST-MODIFIED:20260224T210836Z
UID:10001328-1784916000-1784923200@www.eyc.org
SUMMARY:Friday RS Tera / 420 / ILCA/ ILCA Master's Series Races
DESCRIPTION:Master’s Series held on alternating weeks in conjunction with Laser races \nNo race 7/31
URL:https://www.eyc.org/event/friday-rs-tera-420-ilca-ilca-masters-series-races/2026-07-24/
CATEGORIES:420,Racing,RS Tera
END:VEVENT
BEGIN:VEVENT
DTSTART;TZID=America/Chicago:20260731T180000
DTEND;TZID=America/Chicago:20260731T200000
DTSTAMP:20260420T033501
CREATED:20260224T210836Z
LAST-MODIFIED:20260224T210836Z
UID:10001329-1785520800-1785528000@www.eyc.org
SUMMARY:Friday RS Tera / 420 / ILCA/ ILCA Master's Series Races
DESCRIPTION:Master’s Series held on alternating weeks in conjunction with Laser races \nNo race 7/31
URL:https://www.eyc.org/event/friday-rs-tera-420-ilca-ilca-masters-series-races/2026-07-31/
CATEGORIES:420,Racing,RS Tera
END:VEVENT
BEGIN:VEVENT
DTSTART;TZID=America/Chicago:20260807T180000
DTEND;TZID=America/Chicago:20260807T200000
DTSTAMP:20260420T033501
CREATED:20260224T210836Z
LAST-MODIFIED:20260224T210836Z
UID:10001330-1786125600-1786132800@www.eyc.org
SUMMARY:Friday RS Tera / 420 / ILCA/ ILCA Master's Series Races
DESCRIPTION:Master’s Series held on alternating weeks in conjunction with Laser races \nNo race 7/31
URL:https://www.eyc.org/event/friday-rs-tera-420-ilca-ilca-masters-series-races/2026-08-07/
CATEGORIES:420,Racing,RS Tera
END:VEVENT
END:VCALENDAR