BEGIN:VCALENDAR
VERSION:2.0
PRODID:-//Ephraim Yacht Club - ECPv6.15.20//NONSGML v1.0//EN
CALSCALE:GREGORIAN
METHOD:PUBLISH
X-WR-CALNAME:Ephraim Yacht Club
X-ORIGINAL-URL:https://www.eyc.org
X-WR-CALDESC:Events for Ephraim Yacht Club
REFRESH-INTERVAL;VALUE=DURATION:PT1H
X-Robots-Tag:noindex
X-PUBLISHED-TTL:PT1H
BEGIN:VTIMEZONE
TZID:America/Chicago
BEGIN:DAYLIGHT
TZOFFSETFROM:-0600
TZOFFSETTO:-0500
TZNAME:CDT
DTSTART:20250309T080000
END:DAYLIGHT
BEGIN:STANDARD
TZOFFSETFROM:-0500
TZOFFSETTO:-0600
TZNAME:CST
DTSTART:20251102T070000
END:STANDARD
BEGIN:DAYLIGHT
TZOFFSETFROM:-0600
TZOFFSETTO:-0500
TZNAME:CDT
DTSTART:20260308T080000
END:DAYLIGHT
BEGIN:STANDARD
TZOFFSETFROM:-0500
TZOFFSETTO:-0600
TZNAME:CST
DTSTART:20261101T070000
END:STANDARD
BEGIN:DAYLIGHT
TZOFFSETFROM:-0600
TZOFFSETTO:-0500
TZNAME:CDT
DTSTART:20270314T080000
END:DAYLIGHT
BEGIN:STANDARD
TZOFFSETFROM:-0500
TZOFFSETTO:-0600
TZNAME:CST
DTSTART:20271107T070000
END:STANDARD
END:VTIMEZONE
BEGIN:VEVENT
DTSTART;TZID=America/Chicago:20260709T180000
DTEND;TZID=America/Chicago:20260709T210000
DTSTAMP:20260419T075507
CREATED:20250224T174441Z
LAST-MODIFIED:20260416T095815Z
UID:10001152-1783620000-1783630800@www.eyc.org
SUMMARY:First Mate Ladies Sunset Social
DESCRIPTION:
URL:https://www.eyc.org/event/first-mate-ladies-sunset-social/
LOCATION:Ephraim Yacht Club\, 10071 Water Street\, Ephraim\, WI\, 54211\, United States
CATEGORIES:Adult,Annual,First Mate Ladies' Social,Social Activities
END:VEVENT
BEGIN:VEVENT
DTSTART;TZID=America/Chicago:20260709T183000
DTEND;TZID=America/Chicago:20260709T200000
DTSTAMP:20260419T075507
CREATED:20260224T210532Z
LAST-MODIFIED:20260224T210532Z
UID:10001317-1783621800-1783627200@www.eyc.org
SUMMARY:Thursday Opti / 420 Series Races
DESCRIPTION:
URL:https://www.eyc.org/event/thursday-opti-420-series-races/2026-07-09/
LOCATION:WI
CATEGORIES:420,Opti,Racing
END:VEVENT
BEGIN:VEVENT
DTSTART;TZID=America/Chicago:20260710T180000
DTEND;TZID=America/Chicago:20260710T200000
DTSTAMP:20260419T075507
CREATED:20260224T210836Z
LAST-MODIFIED:20260224T210836Z
UID:10001326-1783706400-1783713600@www.eyc.org
SUMMARY:Friday RS Tera / 420 / ILCA/ ILCA Master's Series Races
DESCRIPTION:Master’s Series held on alternating weeks in conjunction with Laser races \nNo race 7/31
URL:https://www.eyc.org/event/friday-rs-tera-420-ilca-ilca-masters-series-races/2026-07-10/
LOCATION:WI
CATEGORIES:420,Racing,RS Tera
END:VEVENT
BEGIN:VEVENT
DTSTART;TZID=America/Chicago:20260710T180000
DTEND;TZID=America/Chicago:20260710T200000
DTSTAMP:20260419T075507
CREATED:20260224T211025Z
LAST-MODIFIED:20260224T211025Z
UID:10001335-1783706400-1783713600@www.eyc.org
SUMMARY:Friday Night Potluck
DESCRIPTION:Potluck begins following the Friday evening races
URL:https://www.eyc.org/event/friday-night-potluck/2026-07-10/
LOCATION:WI
END:VEVENT
BEGIN:VEVENT
DTSTART;TZID=America/Chicago:20260711T100000
DTEND;TZID=America/Chicago:20260711T120000
DTSTAMP:20260419T075507
CREATED:20250224T175106Z
LAST-MODIFIED:20260416T095931Z
UID:10001156-1783764000-1783771200@www.eyc.org
SUMMARY:Ephraim Women’s Regatta
DESCRIPTION:
URL:https://www.eyc.org/event/ephraim-womens-regatta/
LOCATION:Ephraim Yacht Club\, 10071 Water Street\, Ephraim\, WI\, 54211\, United States
CATEGORIES:Racing,Regatta
END:VEVENT
BEGIN:VEVENT
DTSTART;TZID=America/Chicago:20260711T100000
DTEND;TZID=America/Chicago:20260711T130000
DTSTAMP:20260419T075507
CREATED:20260224T204547Z
LAST-MODIFIED:20260224T204547Z
UID:10001210-1783764000-1783774800@www.eyc.org
SUMMARY:Saturday Flying Scot Series Races
DESCRIPTION:No race on 8/1
URL:https://www.eyc.org/event/saturday-flying-scot-series-races-2/2026-07-11/
LOCATION:WI
CATEGORIES:Flying Scot,Racing
END:VEVENT
BEGIN:VEVENT
DTSTART;VALUE=DATE:20260713
DTEND;VALUE=DATE:20260718
DTSTAMP:20260419T075507
CREATED:20250224T160305Z
LAST-MODIFIED:20260224T203508Z
UID:10000899-1783900800-1784332799@www.eyc.org
SUMMARY:Session D1
DESCRIPTION:The countdown to summer starts now! EYC lesson registrations opens on Saturday \, February 1st at 8:00 a.m. \n\nThe EYC operates one of the largest and oldest sailing schools in the midwest.  We offer lessons from beginner to advanced\, racing and power boating skills\, youth and adults\, and one and two weeks sessions are available.  Two week sessions are available during Sessions B\, C\, D and E.  If you have any questions please email education@eyc.org . \n\n\nUse this link to register Summer 2026 Sailing Lessons
URL:https://www.eyc.org/event/session-d1/
LOCATION:Ephraim Yacht Club\, 10071 Water Street\, Ephraim\, WI\, 54211\, United States
END:VEVENT
BEGIN:VEVENT
DTSTART;TZID=America/Chicago:20260713T130000
DTEND;TZID=America/Chicago:20260713T150000
DTSTAMP:20260419T075507
CREATED:20260224T204926Z
LAST-MODIFIED:20260415T182902Z
UID:10001220-1783947600-1783954800@www.eyc.org
SUMMARY:Monday Bridge - Open Play
DESCRIPTION:
URL:https://www.eyc.org/event/bridge-open-play-2/2026-07-13/
LOCATION:Ephraim Yacht Club\, 10071 Water Street\, Ephraim\, WI\, 54211\, United States
CATEGORIES:Bridge,Social Activities,Weekly
END:VEVENT
BEGIN:VEVENT
DTSTART;TZID=America/Chicago:20260713T170000
DTEND;TZID=America/Chicago:20260713T170000
DTSTAMP:20260419T075507
CREATED:20260224T205206Z
LAST-MODIFIED:20260224T205206Z
UID:10001237-1783962000-1783962000@www.eyc.org
SUMMARY:Monday Flying Scot / ILCA Series Races
DESCRIPTION:
URL:https://www.eyc.org/event/monday-flying-scot-ilca-series-races/2026-07-13/
LOCATION:WI
CATEGORIES:Flying Scot,Racing
END:VEVENT
BEGIN:VEVENT
DTSTART;TZID=America/Chicago:20260713T190000
DTEND;TZID=America/Chicago:20260713T210000
DTSTAMP:20260419T075507
CREATED:20260224T205359Z
LAST-MODIFIED:20260224T205359Z
UID:10001246-1783969200-1783976400@www.eyc.org
SUMMARY:Bunco
DESCRIPTION:
URL:https://www.eyc.org/event/bunco-4/2026-07-13/
LOCATION:WI
CATEGORIES:Bunco,Social Activities,Weekly
END:VEVENT
BEGIN:VEVENT
DTSTART;TZID=America/Chicago:20260714T163000
DTEND;TZID=America/Chicago:20260714T183000
DTSTAMP:20260419T075507
CREATED:20260224T205542Z
LAST-MODIFIED:20260415T182954Z
UID:10001259-1784046600-1784053800@www.eyc.org
SUMMARY:Tuesday Partners Bridge
DESCRIPTION:
URL:https://www.eyc.org/event/partners-bridge-2/2026-07-14/
LOCATION:WI
CATEGORIES:Bridge,Social Activities,Weekly
END:VEVENT
BEGIN:VEVENT
DTSTART;TZID=America/Chicago:20260714T180000
DTEND;TZID=America/Chicago:20260714T190000
DTSTAMP:20260419T075507
CREATED:20260224T205916Z
LAST-MODIFIED:20260224T205916Z
UID:10001276-1784052000-1784055600@www.eyc.org
SUMMARY:Tuesday Opti / RS Tera Series Races
DESCRIPTION:
URL:https://www.eyc.org/event/tuesday-opti-rs-tera-series-races/2026-07-14/
LOCATION:WI
CATEGORIES:Opti,Racing,RS Tera
END:VEVENT
BEGIN:VEVENT
DTSTART;TZID=America/Chicago:20260715T160000
DTEND;TZID=America/Chicago:20260715T180000
DTSTAMP:20260419T075507
CREATED:20260224T210146Z
LAST-MODIFIED:20260224T210146Z
UID:10001285-1784131200-1784138400@www.eyc.org
SUMMARY:Open Play Mah Jongg
DESCRIPTION:
URL:https://www.eyc.org/event/open-play-mah-jongg/2026-07-15/
LOCATION:WI
CATEGORIES:Mahjong,Social Activities,Weekly
END:VEVENT
BEGIN:VEVENT
DTSTART;TZID=America/Chicago:20260716T093000
DTEND;TZID=America/Chicago:20260716T113000
DTSTAMP:20260419T075507
CREATED:20260224T210347Z
LAST-MODIFIED:20260224T210347Z
UID:10001302-1784194200-1784201400@www.eyc.org
SUMMARY:Thursday Open Play Bridge
DESCRIPTION:
URL:https://www.eyc.org/event/thursday-open-play-bridge/2026-07-16/
LOCATION:WI
CATEGORIES:Bridge,Social Activities,Weekly
END:VEVENT
BEGIN:VEVENT
DTSTART;TZID=America/Chicago:20260716T183000
DTEND;TZID=America/Chicago:20260716T200000
DTSTAMP:20260419T075507
CREATED:20260224T210532Z
LAST-MODIFIED:20260224T210532Z
UID:10001318-1784226600-1784232000@www.eyc.org
SUMMARY:Thursday Opti / 420 Series Races
DESCRIPTION:
URL:https://www.eyc.org/event/thursday-opti-420-series-races/2026-07-16/
LOCATION:WI
CATEGORIES:420,Opti,Racing
END:VEVENT
BEGIN:VEVENT
DTSTART;TZID=America/Chicago:20260716T190000
DTEND;TZID=America/Chicago:20260716T203000
DTSTAMP:20260419T075507
CREATED:20250224T174754Z
LAST-MODIFIED:20260416T100027Z
UID:10001154-1784228400-1784233800@www.eyc.org
SUMMARY:Family Fiesta Party
DESCRIPTION:
URL:https://www.eyc.org/event/family-fiesta-party/
LOCATION:WI
CATEGORIES:Family,Social Activities
END:VEVENT
BEGIN:VEVENT
DTSTART;TZID=America/Chicago:20260717T180000
DTEND;TZID=America/Chicago:20260717T200000
DTSTAMP:20260419T075507
CREATED:20260224T210836Z
LAST-MODIFIED:20260224T210836Z
UID:10001327-1784311200-1784318400@www.eyc.org
SUMMARY:Friday RS Tera / 420 / ILCA/ ILCA Master's Series Races
DESCRIPTION:Master’s Series held on alternating weeks in conjunction with Laser races \nNo race 7/31
URL:https://www.eyc.org/event/friday-rs-tera-420-ilca-ilca-masters-series-races/2026-07-17/
LOCATION:WI
CATEGORIES:420,Racing,RS Tera
END:VEVENT
BEGIN:VEVENT
DTSTART;TZID=America/Chicago:20260717T180000
DTEND;TZID=America/Chicago:20260717T200000
DTSTAMP:20260419T075507
CREATED:20260224T211025Z
LAST-MODIFIED:20260224T211025Z
UID:10001336-1784311200-1784318400@www.eyc.org
SUMMARY:Friday Night Potluck
DESCRIPTION:Potluck begins following the Friday evening races
URL:https://www.eyc.org/event/friday-night-potluck/2026-07-17/
LOCATION:WI
END:VEVENT
BEGIN:VEVENT
DTSTART;TZID=America/Chicago:20260717T190000
DTEND;TZID=America/Chicago:20260717T203000
DTSTAMP:20260419T075507
CREATED:20250224T174914Z
LAST-MODIFIED:20260416T100105Z
UID:10001155-1784314800-1784320200@www.eyc.org
SUMMARY:Family Fiesta Party - Rain Date
DESCRIPTION:
URL:https://www.eyc.org/event/family-fiesta-party-rain-date/
LOCATION:WI
CATEGORIES:Family,Social Activities
END:VEVENT
BEGIN:VEVENT
DTSTART;TZID=America/Chicago:20260718T100000
DTEND;TZID=America/Chicago:20260718T130000
DTSTAMP:20260419T075507
CREATED:20260224T204547Z
LAST-MODIFIED:20260224T204547Z
UID:10001211-1784368800-1784379600@www.eyc.org
SUMMARY:Saturday Flying Scot Series Races
DESCRIPTION:No race on 8/1
URL:https://www.eyc.org/event/saturday-flying-scot-series-races-2/2026-07-18/
LOCATION:WI
CATEGORIES:Flying Scot,Racing
END:VEVENT
BEGIN:VEVENT
DTSTART;TZID=America/Chicago:20260718T100000
DTEND;TZID=America/Chicago:20260719T130000
DTSTAMP:20260419T075507
CREATED:20260416T100350Z
LAST-MODIFIED:20260416T103651Z
UID:10001349-1784368800-1784466000@www.eyc.org
SUMMARY:District 20 ILCA Championship
DESCRIPTION:Click here for registration & NOR
URL:https://www.eyc.org/event/district-20-ilca-championship/
LOCATION:WI
CATEGORIES:Districts,Racing
END:VEVENT
BEGIN:VEVENT
DTSTART;VALUE=DATE:20260720
DTEND;VALUE=DATE:20260725
DTSTAMP:20260419T075507
CREATED:20250224T160407Z
LAST-MODIFIED:20260224T203547Z
UID:10000900-1784505600-1784937599@www.eyc.org
SUMMARY:Session D2
DESCRIPTION:The countdown to summer starts now! EYC lesson registrations opens on Saturday \, February 1st at 8:00 a.m. \n\nThe EYC operates one of the largest and oldest sailing schools in the midwest.  We offer lessons from beginner to advanced\, racing and power boating skills\, youth and adults\, and one and two weeks sessions are available.  Two week sessions are available during Sessions B\, C\, D and E.  If you have any questions please email education@eyc.org . \n\n\nUse this link to register Summer 2026 Sailing Lessons
URL:https://www.eyc.org/event/session-d2/
LOCATION:Ephraim Yacht Club\, 10071 Water Street\, Ephraim\, WI\, 54211\, United States
END:VEVENT
BEGIN:VEVENT
DTSTART;TZID=America/Chicago:20260720T130000
DTEND;TZID=America/Chicago:20260720T150000
DTSTAMP:20260419T075507
CREATED:20260224T204926Z
LAST-MODIFIED:20260415T182902Z
UID:10001221-1784552400-1784559600@www.eyc.org
SUMMARY:Monday Bridge - Open Play
DESCRIPTION:
URL:https://www.eyc.org/event/bridge-open-play-2/2026-07-20/
LOCATION:Ephraim Yacht Club\, 10071 Water Street\, Ephraim\, WI\, 54211\, United States
CATEGORIES:Bridge,Social Activities,Weekly
END:VEVENT
BEGIN:VEVENT
DTSTART;TZID=America/Chicago:20260720T170000
DTEND;TZID=America/Chicago:20260720T170000
DTSTAMP:20260419T075507
CREATED:20260224T205206Z
LAST-MODIFIED:20260224T205206Z
UID:10001238-1784566800-1784566800@www.eyc.org
SUMMARY:Monday Flying Scot / ILCA Series Races
DESCRIPTION:
URL:https://www.eyc.org/event/monday-flying-scot-ilca-series-races/2026-07-20/
LOCATION:WI
CATEGORIES:Flying Scot,Racing
END:VEVENT
BEGIN:VEVENT
DTSTART;TZID=America/Chicago:20260720T190000
DTEND;TZID=America/Chicago:20260720T210000
DTSTAMP:20260419T075507
CREATED:20260224T205359Z
LAST-MODIFIED:20260224T205359Z
UID:10001247-1784574000-1784581200@www.eyc.org
SUMMARY:Bunco
DESCRIPTION:
URL:https://www.eyc.org/event/bunco-4/2026-07-20/
LOCATION:WI
CATEGORIES:Bunco,Social Activities,Weekly
END:VEVENT
BEGIN:VEVENT
DTSTART;TZID=America/Chicago:20260721T163000
DTEND;TZID=America/Chicago:20260721T183000
DTSTAMP:20260419T075507
CREATED:20260224T205542Z
LAST-MODIFIED:20260415T182954Z
UID:10001260-1784651400-1784658600@www.eyc.org
SUMMARY:Tuesday Partners Bridge
DESCRIPTION:
URL:https://www.eyc.org/event/partners-bridge-2/2026-07-21/
LOCATION:WI
CATEGORIES:Bridge,Social Activities,Weekly
END:VEVENT
BEGIN:VEVENT
DTSTART;TZID=America/Chicago:20260721T180000
DTEND;TZID=America/Chicago:20260721T190000
DTSTAMP:20260419T075507
CREATED:20260224T205916Z
LAST-MODIFIED:20260224T205916Z
UID:10001277-1784656800-1784660400@www.eyc.org
SUMMARY:Tuesday Opti / RS Tera Series Races
DESCRIPTION:
URL:https://www.eyc.org/event/tuesday-opti-rs-tera-series-races/2026-07-21/
LOCATION:WI
CATEGORIES:Opti,Racing,RS Tera
END:VEVENT
BEGIN:VEVENT
DTSTART;TZID=America/Chicago:20260722T160000
DTEND;TZID=America/Chicago:20260722T180000
DTSTAMP:20260419T075507
CREATED:20260224T210146Z
LAST-MODIFIED:20260224T210146Z
UID:10001286-1784736000-1784743200@www.eyc.org
SUMMARY:Open Play Mah Jongg
DESCRIPTION:
URL:https://www.eyc.org/event/open-play-mah-jongg/2026-07-22/
LOCATION:WI
CATEGORIES:Mahjong,Social Activities,Weekly
END:VEVENT
BEGIN:VEVENT
DTSTART;TZID=America/Chicago:20260723T093000
DTEND;TZID=America/Chicago:20260723T113000
DTSTAMP:20260419T075507
CREATED:20260224T210347Z
LAST-MODIFIED:20260224T210347Z
UID:10001303-1784799000-1784806200@www.eyc.org
SUMMARY:Thursday Open Play Bridge
DESCRIPTION:
URL:https://www.eyc.org/event/thursday-open-play-bridge/2026-07-23/
LOCATION:WI
CATEGORIES:Bridge,Social Activities,Weekly
END:VEVENT
BEGIN:VEVENT
DTSTART;TZID=America/Chicago:20260723T120000
DTEND;TZID=America/Chicago:20260723T120000
DTSTAMP:20260419T075507
CREATED:20250224T175232Z
LAST-MODIFIED:20260416T100439Z
UID:10001157-1784808000-1784808000@www.eyc.org
SUMMARY:Joani Lewis Social Sail (open to all regardless of sailing skill)
DESCRIPTION:
URL:https://www.eyc.org/event/joani-lewis-social-sail-open-to-all-regardless-of-sailing-skill/
LOCATION:Ephraim Yacht Club\, 10071 Water Street\, Ephraim\, WI\, 54211\, United States
CATEGORIES:Family,Social Activities,Social Sailing
END:VEVENT
END:VCALENDAR