BEGIN:VCALENDAR
VERSION:2.0
PRODID:-//Ephraim Yacht Club - ECPv6.15.20//NONSGML v1.0//EN
CALSCALE:GREGORIAN
METHOD:PUBLISH
X-ORIGINAL-URL:https://www.eyc.org
X-WR-CALDESC:Events for Ephraim Yacht Club
REFRESH-INTERVAL;VALUE=DURATION:PT1H
X-Robots-Tag:noindex
X-PUBLISHED-TTL:PT1H
BEGIN:VTIMEZONE
TZID:America/Chicago
BEGIN:DAYLIGHT
TZOFFSETFROM:-0600
TZOFFSETTO:-0500
TZNAME:CDT
DTSTART:20250309T080000
END:DAYLIGHT
BEGIN:STANDARD
TZOFFSETFROM:-0500
TZOFFSETTO:-0600
TZNAME:CST
DTSTART:20251102T070000
END:STANDARD
BEGIN:DAYLIGHT
TZOFFSETFROM:-0600
TZOFFSETTO:-0500
TZNAME:CDT
DTSTART:20260308T080000
END:DAYLIGHT
BEGIN:STANDARD
TZOFFSETFROM:-0500
TZOFFSETTO:-0600
TZNAME:CST
DTSTART:20261101T070000
END:STANDARD
BEGIN:DAYLIGHT
TZOFFSETFROM:-0600
TZOFFSETTO:-0500
TZNAME:CDT
DTSTART:20270314T080000
END:DAYLIGHT
BEGIN:STANDARD
TZOFFSETFROM:-0500
TZOFFSETTO:-0600
TZNAME:CST
DTSTART:20271107T070000
END:STANDARD
END:VTIMEZONE
BEGIN:VEVENT
DTSTART;TZID=America/Chicago:20260731T170000
DTEND;TZID=America/Chicago:20260731T210000
DTSTAMP:20260420T054003
CREATED:20250224T175705Z
LAST-MODIFIED:20260416T100846Z
UID:10001159-1785517200-1785531600@www.eyc.org
SUMMARY:Ephraim Regatta Welcome Party
DESCRIPTION:This year\, the Ephraim Regatta Party will be held rain or shine at Olga Dana Green across from the EYC.  All racers\, members\, and friends are welcome!  We will have drinks\, yard games\, good music and the very tasty Great Lakes BBQ for dinner.  The party will run from 6pm to 9pm.  If you have any questions\, please reach out to Woody and Emily Heidler at ephraimregatta@eyc.org
URL:https://www.eyc.org/event/ephraim-regatta-welcome-party-2/
LOCATION:Ephraim Yacht Club\, 10071 Water Street\, Ephraim\, WI\, 54211\, United States
CATEGORIES:Annual,Family,Flying Scot,Racing,Regatta,Social Activities
END:VEVENT
BEGIN:VEVENT
DTSTART;TZID=America/Chicago:20260801T180000
DTEND;TZID=America/Chicago:20260801T210000
DTSTAMP:20260420T054003
CREATED:20250224T180124Z
LAST-MODIFIED:20260416T101158Z
UID:10001161-1785607200-1785618000@www.eyc.org
SUMMARY:121st Ephraim Regatta Party\, Pyle Family Home-Wisconsin Fare
DESCRIPTION:
URL:https://www.eyc.org/event/120th-ephraim-regatta-party-pyle-family-home/
CATEGORIES:Annual,Family,Flying Scot,Racing,Regatta,Social Activities
END:VEVENT
BEGIN:VEVENT
DTSTART;TZID=America/Chicago:20260803T130000
DTEND;TZID=America/Chicago:20260803T150000
DTSTAMP:20260420T054003
CREATED:20260224T204926Z
LAST-MODIFIED:20260415T182902Z
UID:10001223-1785762000-1785769200@www.eyc.org
SUMMARY:Monday Bridge - Open Play
DESCRIPTION:
URL:https://www.eyc.org/event/bridge-open-play-2/2026-08-03/
LOCATION:Ephraim Yacht Club\, 10071 Water Street\, Ephraim\, WI\, 54211\, United States
CATEGORIES:Bridge,Social Activities,Weekly
END:VEVENT
BEGIN:VEVENT
DTSTART;TZID=America/Chicago:20260803T190000
DTEND;TZID=America/Chicago:20260803T210000
DTSTAMP:20260420T054003
CREATED:20260224T205359Z
LAST-MODIFIED:20260224T205359Z
UID:10001249-1785783600-1785790800@www.eyc.org
SUMMARY:Bunco
DESCRIPTION:
URL:https://www.eyc.org/event/bunco-4/2026-08-03/
CATEGORIES:Bunco,Social Activities,Weekly
END:VEVENT
BEGIN:VEVENT
DTSTART;TZID=America/Chicago:20260804T163000
DTEND;TZID=America/Chicago:20260804T183000
DTSTAMP:20260420T054003
CREATED:20260224T205542Z
LAST-MODIFIED:20260415T182954Z
UID:10001262-1785861000-1785868200@www.eyc.org
SUMMARY:Tuesday Partners Bridge
DESCRIPTION:
URL:https://www.eyc.org/event/partners-bridge-2/2026-08-04/
CATEGORIES:Bridge,Social Activities,Weekly
END:VEVENT
BEGIN:VEVENT
DTSTART;TZID=America/Chicago:20260805T160000
DTEND;TZID=America/Chicago:20260805T180000
DTSTAMP:20260420T054003
CREATED:20260224T210146Z
LAST-MODIFIED:20260224T210146Z
UID:10001288-1785945600-1785952800@www.eyc.org
SUMMARY:Open Play Mah Jongg
DESCRIPTION:
URL:https://www.eyc.org/event/open-play-mah-jongg/2026-08-05/
CATEGORIES:Mahjong,Social Activities,Weekly
END:VEVENT
BEGIN:VEVENT
DTSTART;TZID=America/Chicago:20260806T093000
DTEND;TZID=America/Chicago:20260806T113000
DTSTAMP:20260420T054003
CREATED:20260224T210347Z
LAST-MODIFIED:20260224T210347Z
UID:10001305-1786008600-1786015800@www.eyc.org
SUMMARY:Thursday Open Play Bridge
DESCRIPTION:
URL:https://www.eyc.org/event/thursday-open-play-bridge/2026-08-06/
CATEGORIES:Bridge,Social Activities,Weekly
END:VEVENT
BEGIN:VEVENT
DTSTART;TZID=America/Chicago:20260808T180000
DTEND;TZID=America/Chicago:20260808T200000
DTSTAMP:20260420T054003
CREATED:20250224T180701Z
LAST-MODIFIED:20260416T101817Z
UID:10001164-1786212000-1786219200@www.eyc.org
SUMMARY:Commodore's Party
DESCRIPTION:
URL:https://www.eyc.org/event/commodores-party-2/
LOCATION:Hidden Acres Farm\, 11128 Beach Rd\, \, WI\, Sister Bay\, 54234\, United States
CATEGORIES:Annual,Family,Social Activities
END:VEVENT
BEGIN:VEVENT
DTSTART;TZID=America/Chicago:20260810T130000
DTEND;TZID=America/Chicago:20260810T150000
DTSTAMP:20260420T054003
CREATED:20260224T204926Z
LAST-MODIFIED:20260415T182902Z
UID:10001224-1786366800-1786374000@www.eyc.org
SUMMARY:Monday Bridge - Open Play
DESCRIPTION:
URL:https://www.eyc.org/event/bridge-open-play-2/2026-08-10/
LOCATION:Ephraim Yacht Club\, 10071 Water Street\, Ephraim\, WI\, 54211\, United States
CATEGORIES:Bridge,Social Activities,Weekly
END:VEVENT
BEGIN:VEVENT
DTSTART;TZID=America/Chicago:20260810T190000
DTEND;TZID=America/Chicago:20260810T210000
DTSTAMP:20260420T054003
CREATED:20260224T205359Z
LAST-MODIFIED:20260224T205359Z
UID:10001250-1786388400-1786395600@www.eyc.org
SUMMARY:Bunco
DESCRIPTION:
URL:https://www.eyc.org/event/bunco-4/2026-08-10/
CATEGORIES:Bunco,Social Activities,Weekly
END:VEVENT
BEGIN:VEVENT
DTSTART;TZID=America/Chicago:20260811T163000
DTEND;TZID=America/Chicago:20260811T183000
DTSTAMP:20260420T054003
CREATED:20260224T205542Z
LAST-MODIFIED:20260415T182954Z
UID:10001263-1786465800-1786473000@www.eyc.org
SUMMARY:Tuesday Partners Bridge
DESCRIPTION:
URL:https://www.eyc.org/event/partners-bridge-2/2026-08-11/
CATEGORIES:Bridge,Social Activities,Weekly
END:VEVENT
BEGIN:VEVENT
DTSTART;TZID=America/Chicago:20260812T160000
DTEND;TZID=America/Chicago:20260812T180000
DTSTAMP:20260420T054003
CREATED:20260224T210146Z
LAST-MODIFIED:20260224T210146Z
UID:10001289-1786550400-1786557600@www.eyc.org
SUMMARY:Open Play Mah Jongg
DESCRIPTION:
URL:https://www.eyc.org/event/open-play-mah-jongg/2026-08-12/
CATEGORIES:Mahjong,Social Activities,Weekly
END:VEVENT
BEGIN:VEVENT
DTSTART;TZID=America/Chicago:20260813T093000
DTEND;TZID=America/Chicago:20260813T113000
DTSTAMP:20260420T054003
CREATED:20260224T210347Z
LAST-MODIFIED:20260224T210347Z
UID:10001306-1786613400-1786620600@www.eyc.org
SUMMARY:Thursday Open Play Bridge
DESCRIPTION:
URL:https://www.eyc.org/event/thursday-open-play-bridge/2026-08-13/
CATEGORIES:Bridge,Social Activities,Weekly
END:VEVENT
BEGIN:VEVENT
DTSTART;TZID=America/Chicago:20260817T130000
DTEND;TZID=America/Chicago:20260817T150000
DTSTAMP:20260420T054003
CREATED:20260224T204926Z
LAST-MODIFIED:20260415T182902Z
UID:10001225-1786971600-1786978800@www.eyc.org
SUMMARY:Monday Bridge - Open Play
DESCRIPTION:
URL:https://www.eyc.org/event/bridge-open-play-2/2026-08-17/
LOCATION:Ephraim Yacht Club\, 10071 Water Street\, Ephraim\, WI\, 54211\, United States
CATEGORIES:Bridge,Social Activities,Weekly
END:VEVENT
BEGIN:VEVENT
DTSTART;TZID=America/Chicago:20260817T190000
DTEND;TZID=America/Chicago:20260817T210000
DTSTAMP:20260420T054003
CREATED:20260224T205359Z
LAST-MODIFIED:20260224T205359Z
UID:10001251-1786993200-1787000400@www.eyc.org
SUMMARY:Bunco
DESCRIPTION:
URL:https://www.eyc.org/event/bunco-4/2026-08-17/
CATEGORIES:Bunco,Social Activities,Weekly
END:VEVENT
BEGIN:VEVENT
DTSTART;TZID=America/Chicago:20260818T163000
DTEND;TZID=America/Chicago:20260818T183000
DTSTAMP:20260420T054003
CREATED:20260224T205542Z
LAST-MODIFIED:20260415T182954Z
UID:10001264-1787070600-1787077800@www.eyc.org
SUMMARY:Tuesday Partners Bridge
DESCRIPTION:
URL:https://www.eyc.org/event/partners-bridge-2/2026-08-18/
CATEGORIES:Bridge,Social Activities,Weekly
END:VEVENT
BEGIN:VEVENT
DTSTART;TZID=America/Chicago:20260819T160000
DTEND;TZID=America/Chicago:20260819T180000
DTSTAMP:20260420T054003
CREATED:20260224T210146Z
LAST-MODIFIED:20260224T210146Z
UID:10001290-1787155200-1787162400@www.eyc.org
SUMMARY:Open Play Mah Jongg
DESCRIPTION:
URL:https://www.eyc.org/event/open-play-mah-jongg/2026-08-19/
CATEGORIES:Mahjong,Social Activities,Weekly
END:VEVENT
BEGIN:VEVENT
DTSTART;TZID=America/Chicago:20260820T093000
DTEND;TZID=America/Chicago:20260820T113000
DTSTAMP:20260420T054003
CREATED:20260224T210347Z
LAST-MODIFIED:20260224T210347Z
UID:10001307-1787218200-1787225400@www.eyc.org
SUMMARY:Thursday Open Play Bridge
DESCRIPTION:
URL:https://www.eyc.org/event/thursday-open-play-bridge/2026-08-20/
CATEGORIES:Bridge,Social Activities,Weekly
END:VEVENT
BEGIN:VEVENT
DTSTART;TZID=America/Chicago:20260824T130000
DTEND;TZID=America/Chicago:20260824T150000
DTSTAMP:20260420T054003
CREATED:20260224T204926Z
LAST-MODIFIED:20260415T182902Z
UID:10001226-1787576400-1787583600@www.eyc.org
SUMMARY:Monday Bridge - Open Play
DESCRIPTION:
URL:https://www.eyc.org/event/bridge-open-play-2/2026-08-24/
LOCATION:Ephraim Yacht Club\, 10071 Water Street\, Ephraim\, WI\, 54211\, United States
CATEGORIES:Bridge,Social Activities,Weekly
END:VEVENT
BEGIN:VEVENT
DTSTART;TZID=America/Chicago:20260824T190000
DTEND;TZID=America/Chicago:20260824T210000
DTSTAMP:20260420T054003
CREATED:20260224T205359Z
LAST-MODIFIED:20260224T205359Z
UID:10001252-1787598000-1787605200@www.eyc.org
SUMMARY:Bunco
DESCRIPTION:
URL:https://www.eyc.org/event/bunco-4/2026-08-24/
CATEGORIES:Bunco,Social Activities,Weekly
END:VEVENT
BEGIN:VEVENT
DTSTART;TZID=America/Chicago:20260825T163000
DTEND;TZID=America/Chicago:20260825T183000
DTSTAMP:20260420T054003
CREATED:20260224T205542Z
LAST-MODIFIED:20260415T182954Z
UID:10001265-1787675400-1787682600@www.eyc.org
SUMMARY:Tuesday Partners Bridge
DESCRIPTION:
URL:https://www.eyc.org/event/partners-bridge-2/2026-08-25/
CATEGORIES:Bridge,Social Activities,Weekly
END:VEVENT
BEGIN:VEVENT
DTSTART;TZID=America/Chicago:20260826T160000
DTEND;TZID=America/Chicago:20260826T180000
DTSTAMP:20260420T054003
CREATED:20260224T210146Z
LAST-MODIFIED:20260224T210146Z
UID:10001291-1787760000-1787767200@www.eyc.org
SUMMARY:Open Play Mah Jongg
DESCRIPTION:
URL:https://www.eyc.org/event/open-play-mah-jongg/2026-08-26/
CATEGORIES:Mahjong,Social Activities,Weekly
END:VEVENT
BEGIN:VEVENT
DTSTART;TZID=America/Chicago:20260827T093000
DTEND;TZID=America/Chicago:20260827T113000
DTSTAMP:20260420T054003
CREATED:20260224T210347Z
LAST-MODIFIED:20260224T210347Z
UID:10001308-1787823000-1787830200@www.eyc.org
SUMMARY:Thursday Open Play Bridge
DESCRIPTION:
URL:https://www.eyc.org/event/thursday-open-play-bridge/2026-08-27/
CATEGORIES:Bridge,Social Activities,Weekly
END:VEVENT
BEGIN:VEVENT
DTSTART;TZID=America/Chicago:20260831T130000
DTEND;TZID=America/Chicago:20260831T150000
DTSTAMP:20260420T054003
CREATED:20260224T204926Z
LAST-MODIFIED:20260415T182902Z
UID:10001227-1788181200-1788188400@www.eyc.org
SUMMARY:Monday Bridge - Open Play
DESCRIPTION:
URL:https://www.eyc.org/event/bridge-open-play-2/2026-08-31/
LOCATION:Ephraim Yacht Club\, 10071 Water Street\, Ephraim\, WI\, 54211\, United States
CATEGORIES:Bridge,Social Activities,Weekly
END:VEVENT
BEGIN:VEVENT
DTSTART;TZID=America/Chicago:20260831T190000
DTEND;TZID=America/Chicago:20260831T210000
DTSTAMP:20260420T054003
CREATED:20260224T205359Z
LAST-MODIFIED:20260224T205359Z
UID:10001253-1788202800-1788210000@www.eyc.org
SUMMARY:Bunco
DESCRIPTION:
URL:https://www.eyc.org/event/bunco-4/2026-08-31/
CATEGORIES:Bunco,Social Activities,Weekly
END:VEVENT
BEGIN:VEVENT
DTSTART;TZID=America/Chicago:20260901T163000
DTEND;TZID=America/Chicago:20260901T183000
DTSTAMP:20260420T054003
CREATED:20260224T205542Z
LAST-MODIFIED:20260415T182954Z
UID:10001266-1788280200-1788287400@www.eyc.org
SUMMARY:Tuesday Partners Bridge
DESCRIPTION:
URL:https://www.eyc.org/event/partners-bridge-2/2026-09-01/
CATEGORIES:Bridge,Social Activities,Weekly
END:VEVENT
BEGIN:VEVENT
DTSTART;TZID=America/Chicago:20260902T160000
DTEND;TZID=America/Chicago:20260902T180000
DTSTAMP:20260420T054003
CREATED:20260224T210146Z
LAST-MODIFIED:20260224T210146Z
UID:10001292-1788364800-1788372000@www.eyc.org
SUMMARY:Open Play Mah Jongg
DESCRIPTION:
URL:https://www.eyc.org/event/open-play-mah-jongg/2026-09-02/
CATEGORIES:Mahjong,Social Activities,Weekly
END:VEVENT
BEGIN:VEVENT
DTSTART;TZID=America/Chicago:20260903T093000
DTEND;TZID=America/Chicago:20260903T113000
DTSTAMP:20260420T054003
CREATED:20260224T210347Z
LAST-MODIFIED:20260224T210347Z
UID:10001309-1788427800-1788435000@www.eyc.org
SUMMARY:Thursday Open Play Bridge
DESCRIPTION:
URL:https://www.eyc.org/event/thursday-open-play-bridge/2026-09-03/
CATEGORIES:Bridge,Social Activities,Weekly
END:VEVENT
BEGIN:VEVENT
DTSTART;TZID=America/Chicago:20260907T130000
DTEND;TZID=America/Chicago:20260907T150000
DTSTAMP:20260420T054003
CREATED:20260224T204926Z
LAST-MODIFIED:20260415T182902Z
UID:10001228-1788786000-1788793200@www.eyc.org
SUMMARY:Monday Bridge - Open Play
DESCRIPTION:
URL:https://www.eyc.org/event/bridge-open-play-2/2026-09-07/
LOCATION:Ephraim Yacht Club\, 10071 Water Street\, Ephraim\, WI\, 54211\, United States
CATEGORIES:Bridge,Social Activities,Weekly
END:VEVENT
BEGIN:VEVENT
DTSTART;TZID=America/Chicago:20260908T163000
DTEND;TZID=America/Chicago:20260908T183000
DTSTAMP:20260420T054003
CREATED:20260224T205542Z
LAST-MODIFIED:20260415T182954Z
UID:10001267-1788885000-1788892200@www.eyc.org
SUMMARY:Tuesday Partners Bridge
DESCRIPTION:
URL:https://www.eyc.org/event/partners-bridge-2/2026-09-08/
CATEGORIES:Bridge,Social Activities,Weekly
END:VEVENT
END:VCALENDAR