BEGIN:VCALENDAR
VERSION:2.0
PRODID:-//Ephraim Yacht Club - ECPv6.15.20//NONSGML v1.0//EN
CALSCALE:GREGORIAN
METHOD:PUBLISH
X-ORIGINAL-URL:https://www.eyc.org
X-WR-CALDESC:Events for Ephraim Yacht Club
REFRESH-INTERVAL;VALUE=DURATION:PT1H
X-Robots-Tag:noindex
X-PUBLISHED-TTL:PT1H
BEGIN:VTIMEZONE
TZID:America/Chicago
BEGIN:DAYLIGHT
TZOFFSETFROM:-0600
TZOFFSETTO:-0500
TZNAME:CDT
DTSTART:20240310T080000
END:DAYLIGHT
BEGIN:STANDARD
TZOFFSETFROM:-0500
TZOFFSETTO:-0600
TZNAME:CST
DTSTART:20241103T070000
END:STANDARD
BEGIN:DAYLIGHT
TZOFFSETFROM:-0600
TZOFFSETTO:-0500
TZNAME:CDT
DTSTART:20250309T080000
END:DAYLIGHT
BEGIN:STANDARD
TZOFFSETFROM:-0500
TZOFFSETTO:-0600
TZNAME:CST
DTSTART:20251102T070000
END:STANDARD
BEGIN:DAYLIGHT
TZOFFSETFROM:-0600
TZOFFSETTO:-0500
TZNAME:CDT
DTSTART:20260308T080000
END:DAYLIGHT
BEGIN:STANDARD
TZOFFSETFROM:-0500
TZOFFSETTO:-0600
TZNAME:CST
DTSTART:20261101T070000
END:STANDARD
END:VTIMEZONE
BEGIN:VEVENT
DTSTART;TZID=America/Chicago:20250924T153000
DTEND;TZID=America/Chicago:20250924T173000
DTSTAMP:20260422T090515
CREATED:20250224T165453Z
LAST-MODIFIED:20250626T170524Z
UID:10001195-1758727800-1758735000@www.eyc.org
SUMMARY:Mahjong - Open Play
DESCRIPTION:
URL:https://www.eyc.org/event/mahjong-open-play/2025-09-24/
LOCATION:Ephraim Yacht Club\, 10071 Water Street\, Ephraim\, WI\, 54211\, United States
CATEGORIES:Adult,Mahjong,Social Activities,Weekly
END:VEVENT
BEGIN:VEVENT
DTSTART;TZID=America/Chicago:20250917T153000
DTEND;TZID=America/Chicago:20250917T173000
DTSTAMP:20260422T090515
CREATED:20250224T165453Z
LAST-MODIFIED:20250626T170524Z
UID:10001194-1758123000-1758130200@www.eyc.org
SUMMARY:Mahjong - Open Play
DESCRIPTION:
URL:https://www.eyc.org/event/mahjong-open-play/2025-09-17/
LOCATION:Ephraim Yacht Club\, 10071 Water Street\, Ephraim\, WI\, 54211\, United States
CATEGORIES:Adult,Mahjong,Social Activities,Weekly
END:VEVENT
BEGIN:VEVENT
DTSTART;TZID=America/Chicago:20250910T153000
DTEND;TZID=America/Chicago:20250910T173000
DTSTAMP:20260422T090515
CREATED:20250224T165453Z
LAST-MODIFIED:20250626T170524Z
UID:10001193-1757518200-1757525400@www.eyc.org
SUMMARY:Mahjong - Open Play
DESCRIPTION:
URL:https://www.eyc.org/event/mahjong-open-play/2025-09-10/
LOCATION:Ephraim Yacht Club\, 10071 Water Street\, Ephraim\, WI\, 54211\, United States
CATEGORIES:Adult,Mahjong,Social Activities,Weekly
END:VEVENT
BEGIN:VEVENT
DTSTART;TZID=America/Chicago:20250903T153000
DTEND;TZID=America/Chicago:20250903T173000
DTSTAMP:20260422T090515
CREATED:20250224T165453Z
LAST-MODIFIED:20250626T170524Z
UID:10001192-1756913400-1756920600@www.eyc.org
SUMMARY:Mahjong - Open Play
DESCRIPTION:
URL:https://www.eyc.org/event/mahjong-open-play/2025-09-03/
LOCATION:Ephraim Yacht Club\, 10071 Water Street\, Ephraim\, WI\, 54211\, United States
CATEGORIES:Adult,Mahjong,Social Activities,Weekly
END:VEVENT
BEGIN:VEVENT
DTSTART;TZID=America/Chicago:20250827T153000
DTEND;TZID=America/Chicago:20250827T173000
DTSTAMP:20260422T090515
CREATED:20250224T165453Z
LAST-MODIFIED:20250626T170524Z
UID:10001191-1756308600-1756315800@www.eyc.org
SUMMARY:Mahjong - Open Play
DESCRIPTION:
URL:https://www.eyc.org/event/mahjong-open-play/2025-08-27/
LOCATION:Ephraim Yacht Club\, 10071 Water Street\, Ephraim\, WI\, 54211\, United States
CATEGORIES:Adult,Mahjong,Social Activities,Weekly
END:VEVENT
BEGIN:VEVENT
DTSTART;TZID=America/Chicago:20250820T153000
DTEND;TZID=America/Chicago:20250820T173000
DTSTAMP:20260422T090515
CREATED:20250224T165453Z
LAST-MODIFIED:20250626T170524Z
UID:10001190-1755703800-1755711000@www.eyc.org
SUMMARY:Mahjong - Open Play
DESCRIPTION:
URL:https://www.eyc.org/event/mahjong-open-play/2025-08-20/
LOCATION:Ephraim Yacht Club\, 10071 Water Street\, Ephraim\, WI\, 54211\, United States
CATEGORIES:Adult,Mahjong,Social Activities,Weekly
END:VEVENT
BEGIN:VEVENT
DTSTART;TZID=America/Chicago:20250813T153000
DTEND;TZID=America/Chicago:20250813T173000
DTSTAMP:20260422T090515
CREATED:20250224T165453Z
LAST-MODIFIED:20250626T170524Z
UID:10001189-1755099000-1755106200@www.eyc.org
SUMMARY:Mahjong - Open Play
DESCRIPTION:
URL:https://www.eyc.org/event/mahjong-open-play/2025-08-13/
LOCATION:Ephraim Yacht Club\, 10071 Water Street\, Ephraim\, WI\, 54211\, United States
CATEGORIES:Adult,Mahjong,Social Activities,Weekly
END:VEVENT
BEGIN:VEVENT
DTSTART;TZID=America/Chicago:20250806T153000
DTEND;TZID=America/Chicago:20250806T173000
DTSTAMP:20260422T090515
CREATED:20250224T165453Z
LAST-MODIFIED:20250626T170524Z
UID:10001188-1754494200-1754501400@www.eyc.org
SUMMARY:Mahjong - Open Play
DESCRIPTION:
URL:https://www.eyc.org/event/mahjong-open-play/2025-08-06/
LOCATION:Ephraim Yacht Club\, 10071 Water Street\, Ephraim\, WI\, 54211\, United States
CATEGORIES:Adult,Mahjong,Social Activities,Weekly
END:VEVENT
BEGIN:VEVENT
DTSTART;TZID=America/Chicago:20250730T153000
DTEND;TZID=America/Chicago:20250730T173000
DTSTAMP:20260422T090515
CREATED:20250224T165453Z
LAST-MODIFIED:20250626T170524Z
UID:10001187-1753889400-1753896600@www.eyc.org
SUMMARY:Mahjong - Open Play
DESCRIPTION:
URL:https://www.eyc.org/event/mahjong-open-play/2025-07-30/
LOCATION:Ephraim Yacht Club\, 10071 Water Street\, Ephraim\, WI\, 54211\, United States
CATEGORIES:Adult,Mahjong,Social Activities,Weekly
END:VEVENT
BEGIN:VEVENT
DTSTART;TZID=America/Chicago:20250723T153000
DTEND;TZID=America/Chicago:20250723T173000
DTSTAMP:20260422T090515
CREATED:20250224T165453Z
LAST-MODIFIED:20250626T170524Z
UID:10001186-1753284600-1753291800@www.eyc.org
SUMMARY:Mahjong - Open Play
DESCRIPTION:
URL:https://www.eyc.org/event/mahjong-open-play/2025-07-23/
LOCATION:Ephraim Yacht Club\, 10071 Water Street\, Ephraim\, WI\, 54211\, United States
CATEGORIES:Adult,Mahjong,Social Activities,Weekly
END:VEVENT
BEGIN:VEVENT
DTSTART;TZID=America/Chicago:20250716T153000
DTEND;TZID=America/Chicago:20250716T173000
DTSTAMP:20260422T090515
CREATED:20250224T165453Z
LAST-MODIFIED:20250626T170524Z
UID:10001185-1752679800-1752687000@www.eyc.org
SUMMARY:Mahjong - Open Play
DESCRIPTION:
URL:https://www.eyc.org/event/mahjong-open-play/2025-07-16/
LOCATION:Ephraim Yacht Club\, 10071 Water Street\, Ephraim\, WI\, 54211\, United States
CATEGORIES:Adult,Mahjong,Social Activities,Weekly
END:VEVENT
BEGIN:VEVENT
DTSTART;TZID=America/Chicago:20250709T153000
DTEND;TZID=America/Chicago:20250709T173000
DTSTAMP:20260422T090515
CREATED:20250224T165453Z
LAST-MODIFIED:20250626T170524Z
UID:10001184-1752075000-1752082200@www.eyc.org
SUMMARY:Mahjong - Open Play
DESCRIPTION:
URL:https://www.eyc.org/event/mahjong-open-play/2025-07-09/
LOCATION:Ephraim Yacht Club\, 10071 Water Street\, Ephraim\, WI\, 54211\, United States
CATEGORIES:Adult,Mahjong,Social Activities,Weekly
END:VEVENT
BEGIN:VEVENT
DTSTART;TZID=America/Chicago:20250702T153000
DTEND;TZID=America/Chicago:20250702T173000
DTSTAMP:20260422T090515
CREATED:20250224T165453Z
LAST-MODIFIED:20250626T170524Z
UID:10001183-1751470200-1751477400@www.eyc.org
SUMMARY:Mahjong - Open Play
DESCRIPTION:
URL:https://www.eyc.org/event/mahjong-open-play/2025-07-02/
LOCATION:Ephraim Yacht Club\, 10071 Water Street\, Ephraim\, WI\, 54211\, United States
CATEGORIES:Adult,Mahjong,Social Activities,Weekly
END:VEVENT
BEGIN:VEVENT
DTSTART;TZID=America/Chicago:20250625T153000
DTEND;TZID=America/Chicago:20250625T173000
DTSTAMP:20260422T090515
CREATED:20250224T165453Z
LAST-MODIFIED:20250626T170524Z
UID:10001182-1750865400-1750872600@www.eyc.org
SUMMARY:Mahjong - Open Play
DESCRIPTION:
URL:https://www.eyc.org/event/mahjong-open-play/2025-06-25/
LOCATION:Ephraim Yacht Club\, 10071 Water Street\, Ephraim\, WI\, 54211\, United States
CATEGORIES:Adult,Mahjong,Social Activities,Weekly
END:VEVENT
BEGIN:VEVENT
DTSTART;TZID=America/Chicago:20250618T153000
DTEND;TZID=America/Chicago:20250618T173000
DTSTAMP:20260422T090515
CREATED:20250224T165453Z
LAST-MODIFIED:20250626T170524Z
UID:10001181-1750260600-1750267800@www.eyc.org
SUMMARY:Mahjong - Open Play
DESCRIPTION:
URL:https://www.eyc.org/event/mahjong-open-play/2025-06-18/
LOCATION:Ephraim Yacht Club\, 10071 Water Street\, Ephraim\, WI\, 54211\, United States
CATEGORIES:Adult,Mahjong,Social Activities,Weekly
END:VEVENT
BEGIN:VEVENT
DTSTART;TZID=America/Chicago:20250611T153000
DTEND;TZID=America/Chicago:20250611T173000
DTSTAMP:20260422T090515
CREATED:20250224T165453Z
LAST-MODIFIED:20250626T170524Z
UID:10001180-1749655800-1749663000@www.eyc.org
SUMMARY:Mahjong - Open Play
DESCRIPTION:
URL:https://www.eyc.org/event/mahjong-open-play/2025-06-11/
LOCATION:Ephraim Yacht Club\, 10071 Water Street\, Ephraim\, WI\, 54211\, United States
CATEGORIES:Adult,Mahjong,Social Activities,Weekly
END:VEVENT
END:VCALENDAR