BEGIN:VCALENDAR
VERSION:2.0
PRODID:-//Ephraim Yacht Club - ECPv6.15.20//NONSGML v1.0//EN
CALSCALE:GREGORIAN
METHOD:PUBLISH
X-ORIGINAL-URL:https://www.eyc.org
X-WR-CALDESC:Events for Ephraim Yacht Club
REFRESH-INTERVAL;VALUE=DURATION:PT1H
X-Robots-Tag:noindex
X-PUBLISHED-TTL:PT1H
BEGIN:VTIMEZONE
TZID:America/Chicago
BEGIN:DAYLIGHT
TZOFFSETFROM:-0600
TZOFFSETTO:-0500
TZNAME:CDT
DTSTART:20240310T080000
END:DAYLIGHT
BEGIN:STANDARD
TZOFFSETFROM:-0500
TZOFFSETTO:-0600
TZNAME:CST
DTSTART:20241103T070000
END:STANDARD
BEGIN:DAYLIGHT
TZOFFSETFROM:-0600
TZOFFSETTO:-0500
TZNAME:CDT
DTSTART:20250309T080000
END:DAYLIGHT
BEGIN:STANDARD
TZOFFSETFROM:-0500
TZOFFSETTO:-0600
TZNAME:CST
DTSTART:20251102T070000
END:STANDARD
BEGIN:DAYLIGHT
TZOFFSETFROM:-0600
TZOFFSETTO:-0500
TZNAME:CDT
DTSTART:20260308T080000
END:DAYLIGHT
BEGIN:STANDARD
TZOFFSETFROM:-0500
TZOFFSETTO:-0600
TZNAME:CST
DTSTART:20261101T070000
END:STANDARD
END:VTIMEZONE
BEGIN:VEVENT
DTSTART;TZID=America/Chicago:20250902T163000
DTEND;TZID=America/Chicago:20250902T183000
DTSTAMP:20260420T074009
CREATED:20250224T164608Z
LAST-MODIFIED:20250227T140545Z
UID:10001060-1756830600-1756837800@www.eyc.org
SUMMARY:Partner's Bridge
DESCRIPTION:
URL:https://www.eyc.org/event/partners-bridge/2025-09-02/
LOCATION:Ephraim Yacht Club\, 10071 Water Street\, Ephraim\, WI\, 54211\, United States
CATEGORIES:Adult,Bridge,Social Activities,Weekly
END:VEVENT
BEGIN:VEVENT
DTSTART;TZID=America/Chicago:20250901T130000
DTEND;TZID=America/Chicago:20250901T150000
DTSTAMP:20260420T074009
CREATED:20250224T163433Z
LAST-MODIFIED:20250227T140801Z
UID:10000979-1756731600-1756738800@www.eyc.org
SUMMARY:Open Play Bridge
DESCRIPTION:
URL:https://www.eyc.org/event/open-play-bridge-4/2025-09-01/
LOCATION:Ephraim Yacht Club\, 10071 Water Street\, Ephraim\, WI\, 54211\, United States
CATEGORIES:Adult,Bridge,Social Activities,Weekly
END:VEVENT
BEGIN:VEVENT
DTSTART;TZID=America/Chicago:20250828T093000
DTEND;TZID=America/Chicago:20250828T113000
DTSTAMP:20260420T074009
CREATED:20250224T170125Z
LAST-MODIFIED:20250227T140251Z
UID:10001110-1756373400-1756380600@www.eyc.org
SUMMARY:Bridge - Open Play
DESCRIPTION:
URL:https://www.eyc.org/event/bridge-open-play/2025-08-28/
LOCATION:Ephraim Yacht Club\, 10071 Water Street\, Ephraim\, WI\, 54211\, United States
CATEGORIES:Adult,Bridge,Social Activities,Weekly
END:VEVENT
BEGIN:VEVENT
DTSTART;TZID=America/Chicago:20250826T163000
DTEND;TZID=America/Chicago:20250826T183000
DTSTAMP:20260420T074009
CREATED:20250224T164608Z
LAST-MODIFIED:20250227T140545Z
UID:10001059-1756225800-1756233000@www.eyc.org
SUMMARY:Partner's Bridge
DESCRIPTION:
URL:https://www.eyc.org/event/partners-bridge/2025-08-26/
LOCATION:Ephraim Yacht Club\, 10071 Water Street\, Ephraim\, WI\, 54211\, United States
CATEGORIES:Adult,Bridge,Social Activities,Weekly
END:VEVENT
BEGIN:VEVENT
DTSTART;TZID=America/Chicago:20250825T130000
DTEND;TZID=America/Chicago:20250825T150000
DTSTAMP:20260420T074009
CREATED:20250224T163433Z
LAST-MODIFIED:20250227T140801Z
UID:10000978-1756126800-1756134000@www.eyc.org
SUMMARY:Open Play Bridge
DESCRIPTION:
URL:https://www.eyc.org/event/open-play-bridge-4/2025-08-25/
LOCATION:Ephraim Yacht Club\, 10071 Water Street\, Ephraim\, WI\, 54211\, United States
CATEGORIES:Adult,Bridge,Social Activities,Weekly
END:VEVENT
BEGIN:VEVENT
DTSTART;TZID=America/Chicago:20250821T093000
DTEND;TZID=America/Chicago:20250821T113000
DTSTAMP:20260420T074009
CREATED:20250224T170125Z
LAST-MODIFIED:20250227T140251Z
UID:10001109-1755768600-1755775800@www.eyc.org
SUMMARY:Bridge - Open Play
DESCRIPTION:
URL:https://www.eyc.org/event/bridge-open-play/2025-08-21/
LOCATION:Ephraim Yacht Club\, 10071 Water Street\, Ephraim\, WI\, 54211\, United States
CATEGORIES:Adult,Bridge,Social Activities,Weekly
END:VEVENT
BEGIN:VEVENT
DTSTART;TZID=America/Chicago:20250819T163000
DTEND;TZID=America/Chicago:20250819T183000
DTSTAMP:20260420T074009
CREATED:20250224T164608Z
LAST-MODIFIED:20250227T140545Z
UID:10001058-1755621000-1755628200@www.eyc.org
SUMMARY:Partner's Bridge
DESCRIPTION:
URL:https://www.eyc.org/event/partners-bridge/2025-08-19/
LOCATION:Ephraim Yacht Club\, 10071 Water Street\, Ephraim\, WI\, 54211\, United States
CATEGORIES:Adult,Bridge,Social Activities,Weekly
END:VEVENT
BEGIN:VEVENT
DTSTART;TZID=America/Chicago:20250818T130000
DTEND;TZID=America/Chicago:20250818T150000
DTSTAMP:20260420T074009
CREATED:20250224T163433Z
LAST-MODIFIED:20250227T140801Z
UID:10000977-1755522000-1755529200@www.eyc.org
SUMMARY:Open Play Bridge
DESCRIPTION:
URL:https://www.eyc.org/event/open-play-bridge-4/2025-08-18/
LOCATION:Ephraim Yacht Club\, 10071 Water Street\, Ephraim\, WI\, 54211\, United States
CATEGORIES:Adult,Bridge,Social Activities,Weekly
END:VEVENT
BEGIN:VEVENT
DTSTART;TZID=America/Chicago:20250814T093000
DTEND;TZID=America/Chicago:20250814T113000
DTSTAMP:20260420T074009
CREATED:20250224T170125Z
LAST-MODIFIED:20250227T140251Z
UID:10001108-1755163800-1755171000@www.eyc.org
SUMMARY:Bridge - Open Play
DESCRIPTION:
URL:https://www.eyc.org/event/bridge-open-play/2025-08-14/
LOCATION:Ephraim Yacht Club\, 10071 Water Street\, Ephraim\, WI\, 54211\, United States
CATEGORIES:Adult,Bridge,Social Activities,Weekly
END:VEVENT
BEGIN:VEVENT
DTSTART;TZID=America/Chicago:20250812T163000
DTEND;TZID=America/Chicago:20250812T183000
DTSTAMP:20260420T074009
CREATED:20250224T164608Z
LAST-MODIFIED:20250227T140545Z
UID:10001057-1755016200-1755023400@www.eyc.org
SUMMARY:Partner's Bridge
DESCRIPTION:
URL:https://www.eyc.org/event/partners-bridge/2025-08-12/
LOCATION:Ephraim Yacht Club\, 10071 Water Street\, Ephraim\, WI\, 54211\, United States
CATEGORIES:Adult,Bridge,Social Activities,Weekly
END:VEVENT
BEGIN:VEVENT
DTSTART;TZID=America/Chicago:20250811T130000
DTEND;TZID=America/Chicago:20250811T150000
DTSTAMP:20260420T074009
CREATED:20250224T163433Z
LAST-MODIFIED:20250227T140801Z
UID:10000976-1754917200-1754924400@www.eyc.org
SUMMARY:Open Play Bridge
DESCRIPTION:
URL:https://www.eyc.org/event/open-play-bridge-4/2025-08-11/
LOCATION:Ephraim Yacht Club\, 10071 Water Street\, Ephraim\, WI\, 54211\, United States
CATEGORIES:Adult,Bridge,Social Activities,Weekly
END:VEVENT
BEGIN:VEVENT
DTSTART;TZID=America/Chicago:20250807T093000
DTEND;TZID=America/Chicago:20250807T113000
DTSTAMP:20260420T074009
CREATED:20250224T170125Z
LAST-MODIFIED:20250227T140251Z
UID:10001107-1754559000-1754566200@www.eyc.org
SUMMARY:Bridge - Open Play
DESCRIPTION:
URL:https://www.eyc.org/event/bridge-open-play/2025-08-07/
LOCATION:Ephraim Yacht Club\, 10071 Water Street\, Ephraim\, WI\, 54211\, United States
CATEGORIES:Adult,Bridge,Social Activities,Weekly
END:VEVENT
BEGIN:VEVENT
DTSTART;TZID=America/Chicago:20250805T163000
DTEND;TZID=America/Chicago:20250805T183000
DTSTAMP:20260420T074009
CREATED:20250224T164608Z
LAST-MODIFIED:20250227T140545Z
UID:10001056-1754411400-1754418600@www.eyc.org
SUMMARY:Partner's Bridge
DESCRIPTION:
URL:https://www.eyc.org/event/partners-bridge/2025-08-05/
LOCATION:Ephraim Yacht Club\, 10071 Water Street\, Ephraim\, WI\, 54211\, United States
CATEGORIES:Adult,Bridge,Social Activities,Weekly
END:VEVENT
BEGIN:VEVENT
DTSTART;TZID=America/Chicago:20250804T130000
DTEND;TZID=America/Chicago:20250804T150000
DTSTAMP:20260420T074009
CREATED:20250224T163433Z
LAST-MODIFIED:20250227T140801Z
UID:10000975-1754312400-1754319600@www.eyc.org
SUMMARY:Open Play Bridge
DESCRIPTION:
URL:https://www.eyc.org/event/open-play-bridge-4/2025-08-04/
LOCATION:Ephraim Yacht Club\, 10071 Water Street\, Ephraim\, WI\, 54211\, United States
CATEGORIES:Adult,Bridge,Social Activities,Weekly
END:VEVENT
BEGIN:VEVENT
DTSTART;TZID=America/Chicago:20250731T093000
DTEND;TZID=America/Chicago:20250731T113000
DTSTAMP:20260420T074009
CREATED:20250224T170125Z
LAST-MODIFIED:20250227T140251Z
UID:10001106-1753954200-1753961400@www.eyc.org
SUMMARY:Bridge - Open Play
DESCRIPTION:
URL:https://www.eyc.org/event/bridge-open-play/2025-07-31/
LOCATION:Ephraim Yacht Club\, 10071 Water Street\, Ephraim\, WI\, 54211\, United States
CATEGORIES:Adult,Bridge,Social Activities,Weekly
END:VEVENT
BEGIN:VEVENT
DTSTART;TZID=America/Chicago:20250729T163000
DTEND;TZID=America/Chicago:20250729T183000
DTSTAMP:20260420T074009
CREATED:20250224T164608Z
LAST-MODIFIED:20250227T140545Z
UID:10001055-1753806600-1753813800@www.eyc.org
SUMMARY:Partner's Bridge
DESCRIPTION:
URL:https://www.eyc.org/event/partners-bridge/2025-07-29/
LOCATION:Ephraim Yacht Club\, 10071 Water Street\, Ephraim\, WI\, 54211\, United States
CATEGORIES:Adult,Bridge,Social Activities,Weekly
END:VEVENT
BEGIN:VEVENT
DTSTART;TZID=America/Chicago:20250728T130000
DTEND;TZID=America/Chicago:20250728T150000
DTSTAMP:20260420T074009
CREATED:20250224T163433Z
LAST-MODIFIED:20250227T140801Z
UID:10000974-1753707600-1753714800@www.eyc.org
SUMMARY:Open Play Bridge
DESCRIPTION:
URL:https://www.eyc.org/event/open-play-bridge-4/2025-07-28/
LOCATION:Ephraim Yacht Club\, 10071 Water Street\, Ephraim\, WI\, 54211\, United States
CATEGORIES:Adult,Bridge,Social Activities,Weekly
END:VEVENT
BEGIN:VEVENT
DTSTART;TZID=America/Chicago:20250724T093000
DTEND;TZID=America/Chicago:20250724T113000
DTSTAMP:20260420T074009
CREATED:20250224T170125Z
LAST-MODIFIED:20250227T140251Z
UID:10001105-1753349400-1753356600@www.eyc.org
SUMMARY:Bridge - Open Play
DESCRIPTION:
URL:https://www.eyc.org/event/bridge-open-play/2025-07-24/
LOCATION:Ephraim Yacht Club\, 10071 Water Street\, Ephraim\, WI\, 54211\, United States
CATEGORIES:Adult,Bridge,Social Activities,Weekly
END:VEVENT
BEGIN:VEVENT
DTSTART;TZID=America/Chicago:20250722T163000
DTEND;TZID=America/Chicago:20250722T183000
DTSTAMP:20260420T074009
CREATED:20250224T164608Z
LAST-MODIFIED:20250227T140545Z
UID:10001054-1753201800-1753209000@www.eyc.org
SUMMARY:Partner's Bridge
DESCRIPTION:
URL:https://www.eyc.org/event/partners-bridge/2025-07-22/
LOCATION:Ephraim Yacht Club\, 10071 Water Street\, Ephraim\, WI\, 54211\, United States
CATEGORIES:Adult,Bridge,Social Activities,Weekly
END:VEVENT
BEGIN:VEVENT
DTSTART;TZID=America/Chicago:20250721T130000
DTEND;TZID=America/Chicago:20250721T150000
DTSTAMP:20260420T074009
CREATED:20250224T163433Z
LAST-MODIFIED:20250227T140801Z
UID:10000973-1753102800-1753110000@www.eyc.org
SUMMARY:Open Play Bridge
DESCRIPTION:
URL:https://www.eyc.org/event/open-play-bridge-4/2025-07-21/
LOCATION:Ephraim Yacht Club\, 10071 Water Street\, Ephraim\, WI\, 54211\, United States
CATEGORIES:Adult,Bridge,Social Activities,Weekly
END:VEVENT
BEGIN:VEVENT
DTSTART;TZID=America/Chicago:20250717T093000
DTEND;TZID=America/Chicago:20250717T113000
DTSTAMP:20260420T074009
CREATED:20250224T170125Z
LAST-MODIFIED:20250227T140251Z
UID:10001104-1752744600-1752751800@www.eyc.org
SUMMARY:Bridge - Open Play
DESCRIPTION:
URL:https://www.eyc.org/event/bridge-open-play/2025-07-17/
LOCATION:Ephraim Yacht Club\, 10071 Water Street\, Ephraim\, WI\, 54211\, United States
CATEGORIES:Adult,Bridge,Social Activities,Weekly
END:VEVENT
BEGIN:VEVENT
DTSTART;TZID=America/Chicago:20250715T163000
DTEND;TZID=America/Chicago:20250715T183000
DTSTAMP:20260420T074009
CREATED:20250224T164608Z
LAST-MODIFIED:20250227T140545Z
UID:10001053-1752597000-1752604200@www.eyc.org
SUMMARY:Partner's Bridge
DESCRIPTION:
URL:https://www.eyc.org/event/partners-bridge/2025-07-15/
LOCATION:Ephraim Yacht Club\, 10071 Water Street\, Ephraim\, WI\, 54211\, United States
CATEGORIES:Adult,Bridge,Social Activities,Weekly
END:VEVENT
BEGIN:VEVENT
DTSTART;TZID=America/Chicago:20250714T130000
DTEND;TZID=America/Chicago:20250714T150000
DTSTAMP:20260420T074009
CREATED:20250224T163433Z
LAST-MODIFIED:20250227T140801Z
UID:10000972-1752498000-1752505200@www.eyc.org
SUMMARY:Open Play Bridge
DESCRIPTION:
URL:https://www.eyc.org/event/open-play-bridge-4/2025-07-14/
LOCATION:Ephraim Yacht Club\, 10071 Water Street\, Ephraim\, WI\, 54211\, United States
CATEGORIES:Adult,Bridge,Social Activities,Weekly
END:VEVENT
BEGIN:VEVENT
DTSTART;TZID=America/Chicago:20250710T093000
DTEND;TZID=America/Chicago:20250710T113000
DTSTAMP:20260420T074009
CREATED:20250224T170125Z
LAST-MODIFIED:20250227T140251Z
UID:10001103-1752139800-1752147000@www.eyc.org
SUMMARY:Bridge - Open Play
DESCRIPTION:
URL:https://www.eyc.org/event/bridge-open-play/2025-07-10/
LOCATION:Ephraim Yacht Club\, 10071 Water Street\, Ephraim\, WI\, 54211\, United States
CATEGORIES:Adult,Bridge,Social Activities,Weekly
END:VEVENT
BEGIN:VEVENT
DTSTART;TZID=America/Chicago:20250708T163000
DTEND;TZID=America/Chicago:20250708T183000
DTSTAMP:20260420T074009
CREATED:20250224T164608Z
LAST-MODIFIED:20250227T140545Z
UID:10001052-1751992200-1751999400@www.eyc.org
SUMMARY:Partner's Bridge
DESCRIPTION:
URL:https://www.eyc.org/event/partners-bridge/2025-07-08/
LOCATION:Ephraim Yacht Club\, 10071 Water Street\, Ephraim\, WI\, 54211\, United States
CATEGORIES:Adult,Bridge,Social Activities,Weekly
END:VEVENT
BEGIN:VEVENT
DTSTART;TZID=America/Chicago:20250707T130000
DTEND;TZID=America/Chicago:20250707T150000
DTSTAMP:20260420T074009
CREATED:20250224T163433Z
LAST-MODIFIED:20250227T140801Z
UID:10000971-1751893200-1751900400@www.eyc.org
SUMMARY:Open Play Bridge
DESCRIPTION:
URL:https://www.eyc.org/event/open-play-bridge-4/2025-07-07/
LOCATION:Ephraim Yacht Club\, 10071 Water Street\, Ephraim\, WI\, 54211\, United States
CATEGORIES:Adult,Bridge,Social Activities,Weekly
END:VEVENT
BEGIN:VEVENT
DTSTART;TZID=America/Chicago:20250703T093000
DTEND;TZID=America/Chicago:20250703T113000
DTSTAMP:20260420T074009
CREATED:20250224T170125Z
LAST-MODIFIED:20250227T140251Z
UID:10001102-1751535000-1751542200@www.eyc.org
SUMMARY:Bridge - Open Play
DESCRIPTION:
URL:https://www.eyc.org/event/bridge-open-play/2025-07-03/
LOCATION:Ephraim Yacht Club\, 10071 Water Street\, Ephraim\, WI\, 54211\, United States
CATEGORIES:Adult,Bridge,Social Activities,Weekly
END:VEVENT
BEGIN:VEVENT
DTSTART;TZID=America/Chicago:20250701T163000
DTEND;TZID=America/Chicago:20250701T183000
DTSTAMP:20260420T074009
CREATED:20250224T164608Z
LAST-MODIFIED:20250227T140545Z
UID:10001051-1751387400-1751394600@www.eyc.org
SUMMARY:Partner's Bridge
DESCRIPTION:
URL:https://www.eyc.org/event/partners-bridge/2025-07-01/
LOCATION:Ephraim Yacht Club\, 10071 Water Street\, Ephraim\, WI\, 54211\, United States
CATEGORIES:Adult,Bridge,Social Activities,Weekly
END:VEVENT
BEGIN:VEVENT
DTSTART;TZID=America/Chicago:20250630T130000
DTEND;TZID=America/Chicago:20250630T150000
DTSTAMP:20260420T074009
CREATED:20250224T163433Z
LAST-MODIFIED:20250227T140801Z
UID:10000970-1751288400-1751295600@www.eyc.org
SUMMARY:Open Play Bridge
DESCRIPTION:
URL:https://www.eyc.org/event/open-play-bridge-4/2025-06-30/
LOCATION:Ephraim Yacht Club\, 10071 Water Street\, Ephraim\, WI\, 54211\, United States
CATEGORIES:Adult,Bridge,Social Activities,Weekly
END:VEVENT
BEGIN:VEVENT
DTSTART;TZID=America/Chicago:20250626T093000
DTEND;TZID=America/Chicago:20250626T113000
DTSTAMP:20260420T074009
CREATED:20250224T170125Z
LAST-MODIFIED:20250227T140251Z
UID:10001101-1750930200-1750937400@www.eyc.org
SUMMARY:Bridge - Open Play
DESCRIPTION:
URL:https://www.eyc.org/event/bridge-open-play/2025-06-26/
LOCATION:Ephraim Yacht Club\, 10071 Water Street\, Ephraim\, WI\, 54211\, United States
CATEGORIES:Adult,Bridge,Social Activities,Weekly
END:VEVENT
END:VCALENDAR