BEGIN:VCALENDAR
VERSION:2.0
PRODID:-//Ephraim Yacht Club - ECPv6.15.20//NONSGML v1.0//EN
CALSCALE:GREGORIAN
METHOD:PUBLISH
X-WR-CALNAME:Ephraim Yacht Club
X-ORIGINAL-URL:https://www.eyc.org
X-WR-CALDESC:Events for Ephraim Yacht Club
REFRESH-INTERVAL;VALUE=DURATION:PT1H
X-Robots-Tag:noindex
X-PUBLISHED-TTL:PT1H
BEGIN:VTIMEZONE
TZID:America/Chicago
BEGIN:DAYLIGHT
TZOFFSETFROM:-0600
TZOFFSETTO:-0500
TZNAME:CDT
DTSTART:20250309T080000
END:DAYLIGHT
BEGIN:STANDARD
TZOFFSETFROM:-0500
TZOFFSETTO:-0600
TZNAME:CST
DTSTART:20251102T070000
END:STANDARD
BEGIN:DAYLIGHT
TZOFFSETFROM:-0600
TZOFFSETTO:-0500
TZNAME:CDT
DTSTART:20260308T080000
END:DAYLIGHT
BEGIN:STANDARD
TZOFFSETFROM:-0500
TZOFFSETTO:-0600
TZNAME:CST
DTSTART:20261101T070000
END:STANDARD
BEGIN:DAYLIGHT
TZOFFSETFROM:-0600
TZOFFSETTO:-0500
TZNAME:CDT
DTSTART:20270314T080000
END:DAYLIGHT
BEGIN:STANDARD
TZOFFSETFROM:-0500
TZOFFSETTO:-0600
TZNAME:CST
DTSTART:20271107T070000
END:STANDARD
END:VTIMEZONE
BEGIN:VEVENT
DTSTART;TZID=America/Chicago:20260611T093000
DTEND;TZID=America/Chicago:20260611T113000
DTSTAMP:20260420T055507
CREATED:20260224T210347Z
LAST-MODIFIED:20260224T210347Z
UID:10001297-1781170200-1781177400@www.eyc.org
SUMMARY:Thursday Open Play Bridge
DESCRIPTION:
URL:https://www.eyc.org/event/thursday-open-play-bridge/2026-06-11/
CATEGORIES:Bridge,Social Activities,Weekly
END:VEVENT
BEGIN:VEVENT
DTSTART;TZID=America/Chicago:20260615T130000
DTEND;TZID=America/Chicago:20260615T150000
DTSTAMP:20260420T055507
CREATED:20260224T204926Z
LAST-MODIFIED:20260415T182902Z
UID:10001216-1781528400-1781535600@www.eyc.org
SUMMARY:Monday Bridge - Open Play
DESCRIPTION:
URL:https://www.eyc.org/event/bridge-open-play-2/2026-06-15/
LOCATION:Ephraim Yacht Club\, 10071 Water Street\, Ephraim\, WI\, 54211\, United States
CATEGORIES:Bridge,Social Activities,Weekly
END:VEVENT
BEGIN:VEVENT
DTSTART;TZID=America/Chicago:20260616T163000
DTEND;TZID=America/Chicago:20260616T183000
DTSTAMP:20260420T055507
CREATED:20260224T205542Z
LAST-MODIFIED:20260415T182954Z
UID:10001255-1781627400-1781634600@www.eyc.org
SUMMARY:Tuesday Partners Bridge
DESCRIPTION:
URL:https://www.eyc.org/event/partners-bridge-2/2026-06-16/
CATEGORIES:Bridge,Social Activities,Weekly
END:VEVENT
BEGIN:VEVENT
DTSTART;TZID=America/Chicago:20260618T093000
DTEND;TZID=America/Chicago:20260618T113000
DTSTAMP:20260420T055507
CREATED:20260224T210347Z
LAST-MODIFIED:20260224T210347Z
UID:10001298-1781775000-1781782200@www.eyc.org
SUMMARY:Thursday Open Play Bridge
DESCRIPTION:
URL:https://www.eyc.org/event/thursday-open-play-bridge/2026-06-18/
CATEGORIES:Bridge,Social Activities,Weekly
END:VEVENT
BEGIN:VEVENT
DTSTART;TZID=America/Chicago:20260622T130000
DTEND;TZID=America/Chicago:20260622T150000
DTSTAMP:20260420T055507
CREATED:20260224T204926Z
LAST-MODIFIED:20260415T182902Z
UID:10001217-1782133200-1782140400@www.eyc.org
SUMMARY:Monday Bridge - Open Play
DESCRIPTION:
URL:https://www.eyc.org/event/bridge-open-play-2/2026-06-22/
LOCATION:Ephraim Yacht Club\, 10071 Water Street\, Ephraim\, WI\, 54211\, United States
CATEGORIES:Bridge,Social Activities,Weekly
END:VEVENT
BEGIN:VEVENT
DTSTART;TZID=America/Chicago:20260623T163000
DTEND;TZID=America/Chicago:20260623T183000
DTSTAMP:20260420T055507
CREATED:20260224T205542Z
LAST-MODIFIED:20260415T182954Z
UID:10001256-1782232200-1782239400@www.eyc.org
SUMMARY:Tuesday Partners Bridge
DESCRIPTION:
URL:https://www.eyc.org/event/partners-bridge-2/2026-06-23/
CATEGORIES:Bridge,Social Activities,Weekly
END:VEVENT
BEGIN:VEVENT
DTSTART;TZID=America/Chicago:20260625T093000
DTEND;TZID=America/Chicago:20260625T113000
DTSTAMP:20260420T055507
CREATED:20260224T210347Z
LAST-MODIFIED:20260224T210347Z
UID:10001299-1782379800-1782387000@www.eyc.org
SUMMARY:Thursday Open Play Bridge
DESCRIPTION:
URL:https://www.eyc.org/event/thursday-open-play-bridge/2026-06-25/
CATEGORIES:Bridge,Social Activities,Weekly
END:VEVENT
BEGIN:VEVENT
DTSTART;TZID=America/Chicago:20260629T130000
DTEND;TZID=America/Chicago:20260629T150000
DTSTAMP:20260420T055507
CREATED:20260224T204926Z
LAST-MODIFIED:20260415T182902Z
UID:10001218-1782738000-1782745200@www.eyc.org
SUMMARY:Monday Bridge - Open Play
DESCRIPTION:
URL:https://www.eyc.org/event/bridge-open-play-2/2026-06-29/
LOCATION:Ephraim Yacht Club\, 10071 Water Street\, Ephraim\, WI\, 54211\, United States
CATEGORIES:Bridge,Social Activities,Weekly
END:VEVENT
BEGIN:VEVENT
DTSTART;TZID=America/Chicago:20260630T163000
DTEND;TZID=America/Chicago:20260630T183000
DTSTAMP:20260420T055507
CREATED:20260224T205542Z
LAST-MODIFIED:20260415T182954Z
UID:10001257-1782837000-1782844200@www.eyc.org
SUMMARY:Tuesday Partners Bridge
DESCRIPTION:
URL:https://www.eyc.org/event/partners-bridge-2/2026-06-30/
CATEGORIES:Bridge,Social Activities,Weekly
END:VEVENT
BEGIN:VEVENT
DTSTART;TZID=America/Chicago:20260702T093000
DTEND;TZID=America/Chicago:20260702T113000
DTSTAMP:20260420T055507
CREATED:20260224T210347Z
LAST-MODIFIED:20260224T210347Z
UID:10001300-1782984600-1782991800@www.eyc.org
SUMMARY:Thursday Open Play Bridge
DESCRIPTION:
URL:https://www.eyc.org/event/thursday-open-play-bridge/2026-07-02/
CATEGORIES:Bridge,Social Activities,Weekly
END:VEVENT
BEGIN:VEVENT
DTSTART;TZID=America/Chicago:20260706T130000
DTEND;TZID=America/Chicago:20260706T150000
DTSTAMP:20260420T055507
CREATED:20260224T204926Z
LAST-MODIFIED:20260415T182902Z
UID:10001219-1783342800-1783350000@www.eyc.org
SUMMARY:Monday Bridge - Open Play
DESCRIPTION:
URL:https://www.eyc.org/event/bridge-open-play-2/2026-07-06/
LOCATION:Ephraim Yacht Club\, 10071 Water Street\, Ephraim\, WI\, 54211\, United States
CATEGORIES:Bridge,Social Activities,Weekly
END:VEVENT
BEGIN:VEVENT
DTSTART;TZID=America/Chicago:20260707T163000
DTEND;TZID=America/Chicago:20260707T183000
DTSTAMP:20260420T055507
CREATED:20260224T205542Z
LAST-MODIFIED:20260415T182954Z
UID:10001258-1783441800-1783449000@www.eyc.org
SUMMARY:Tuesday Partners Bridge
DESCRIPTION:
URL:https://www.eyc.org/event/partners-bridge-2/2026-07-07/
CATEGORIES:Bridge,Social Activities,Weekly
END:VEVENT
BEGIN:VEVENT
DTSTART;TZID=America/Chicago:20260709T093000
DTEND;TZID=America/Chicago:20260709T113000
DTSTAMP:20260420T055507
CREATED:20260224T210347Z
LAST-MODIFIED:20260224T210347Z
UID:10001301-1783589400-1783596600@www.eyc.org
SUMMARY:Thursday Open Play Bridge
DESCRIPTION:
URL:https://www.eyc.org/event/thursday-open-play-bridge/2026-07-09/
CATEGORIES:Bridge,Social Activities,Weekly
END:VEVENT
BEGIN:VEVENT
DTSTART;TZID=America/Chicago:20260713T130000
DTEND;TZID=America/Chicago:20260713T150000
DTSTAMP:20260420T055507
CREATED:20260224T204926Z
LAST-MODIFIED:20260415T182902Z
UID:10001220-1783947600-1783954800@www.eyc.org
SUMMARY:Monday Bridge - Open Play
DESCRIPTION:
URL:https://www.eyc.org/event/bridge-open-play-2/2026-07-13/
LOCATION:Ephraim Yacht Club\, 10071 Water Street\, Ephraim\, WI\, 54211\, United States
CATEGORIES:Bridge,Social Activities,Weekly
END:VEVENT
BEGIN:VEVENT
DTSTART;TZID=America/Chicago:20260714T163000
DTEND;TZID=America/Chicago:20260714T183000
DTSTAMP:20260420T055507
CREATED:20260224T205542Z
LAST-MODIFIED:20260415T182954Z
UID:10001259-1784046600-1784053800@www.eyc.org
SUMMARY:Tuesday Partners Bridge
DESCRIPTION:
URL:https://www.eyc.org/event/partners-bridge-2/2026-07-14/
CATEGORIES:Bridge,Social Activities,Weekly
END:VEVENT
BEGIN:VEVENT
DTSTART;TZID=America/Chicago:20260716T093000
DTEND;TZID=America/Chicago:20260716T113000
DTSTAMP:20260420T055507
CREATED:20260224T210347Z
LAST-MODIFIED:20260224T210347Z
UID:10001302-1784194200-1784201400@www.eyc.org
SUMMARY:Thursday Open Play Bridge
DESCRIPTION:
URL:https://www.eyc.org/event/thursday-open-play-bridge/2026-07-16/
CATEGORIES:Bridge,Social Activities,Weekly
END:VEVENT
BEGIN:VEVENT
DTSTART;TZID=America/Chicago:20260720T130000
DTEND;TZID=America/Chicago:20260720T150000
DTSTAMP:20260420T055507
CREATED:20260224T204926Z
LAST-MODIFIED:20260415T182902Z
UID:10001221-1784552400-1784559600@www.eyc.org
SUMMARY:Monday Bridge - Open Play
DESCRIPTION:
URL:https://www.eyc.org/event/bridge-open-play-2/2026-07-20/
LOCATION:Ephraim Yacht Club\, 10071 Water Street\, Ephraim\, WI\, 54211\, United States
CATEGORIES:Bridge,Social Activities,Weekly
END:VEVENT
BEGIN:VEVENT
DTSTART;TZID=America/Chicago:20260721T163000
DTEND;TZID=America/Chicago:20260721T183000
DTSTAMP:20260420T055507
CREATED:20260224T205542Z
LAST-MODIFIED:20260415T182954Z
UID:10001260-1784651400-1784658600@www.eyc.org
SUMMARY:Tuesday Partners Bridge
DESCRIPTION:
URL:https://www.eyc.org/event/partners-bridge-2/2026-07-21/
CATEGORIES:Bridge,Social Activities,Weekly
END:VEVENT
BEGIN:VEVENT
DTSTART;TZID=America/Chicago:20260723T093000
DTEND;TZID=America/Chicago:20260723T113000
DTSTAMP:20260420T055507
CREATED:20260224T210347Z
LAST-MODIFIED:20260224T210347Z
UID:10001303-1784799000-1784806200@www.eyc.org
SUMMARY:Thursday Open Play Bridge
DESCRIPTION:
URL:https://www.eyc.org/event/thursday-open-play-bridge/2026-07-23/
CATEGORIES:Bridge,Social Activities,Weekly
END:VEVENT
BEGIN:VEVENT
DTSTART;TZID=America/Chicago:20260727T130000
DTEND;TZID=America/Chicago:20260727T150000
DTSTAMP:20260420T055507
CREATED:20260224T204926Z
LAST-MODIFIED:20260415T182902Z
UID:10001222-1785157200-1785164400@www.eyc.org
SUMMARY:Monday Bridge - Open Play
DESCRIPTION:
URL:https://www.eyc.org/event/bridge-open-play-2/2026-07-27/
LOCATION:Ephraim Yacht Club\, 10071 Water Street\, Ephraim\, WI\, 54211\, United States
CATEGORIES:Bridge,Social Activities,Weekly
END:VEVENT
BEGIN:VEVENT
DTSTART;TZID=America/Chicago:20260728T163000
DTEND;TZID=America/Chicago:20260728T183000
DTSTAMP:20260420T055507
CREATED:20260224T205542Z
LAST-MODIFIED:20260415T182954Z
UID:10001261-1785256200-1785263400@www.eyc.org
SUMMARY:Tuesday Partners Bridge
DESCRIPTION:
URL:https://www.eyc.org/event/partners-bridge-2/2026-07-28/
CATEGORIES:Bridge,Social Activities,Weekly
END:VEVENT
BEGIN:VEVENT
DTSTART;TZID=America/Chicago:20260730T093000
DTEND;TZID=America/Chicago:20260730T113000
DTSTAMP:20260420T055507
CREATED:20260224T210347Z
LAST-MODIFIED:20260224T210347Z
UID:10001304-1785403800-1785411000@www.eyc.org
SUMMARY:Thursday Open Play Bridge
DESCRIPTION:
URL:https://www.eyc.org/event/thursday-open-play-bridge/2026-07-30/
CATEGORIES:Bridge,Social Activities,Weekly
END:VEVENT
BEGIN:VEVENT
DTSTART;TZID=America/Chicago:20260803T130000
DTEND;TZID=America/Chicago:20260803T150000
DTSTAMP:20260420T055507
CREATED:20260224T204926Z
LAST-MODIFIED:20260415T182902Z
UID:10001223-1785762000-1785769200@www.eyc.org
SUMMARY:Monday Bridge - Open Play
DESCRIPTION:
URL:https://www.eyc.org/event/bridge-open-play-2/2026-08-03/
LOCATION:Ephraim Yacht Club\, 10071 Water Street\, Ephraim\, WI\, 54211\, United States
CATEGORIES:Bridge,Social Activities,Weekly
END:VEVENT
BEGIN:VEVENT
DTSTART;TZID=America/Chicago:20260804T163000
DTEND;TZID=America/Chicago:20260804T183000
DTSTAMP:20260420T055507
CREATED:20260224T205542Z
LAST-MODIFIED:20260415T182954Z
UID:10001262-1785861000-1785868200@www.eyc.org
SUMMARY:Tuesday Partners Bridge
DESCRIPTION:
URL:https://www.eyc.org/event/partners-bridge-2/2026-08-04/
CATEGORIES:Bridge,Social Activities,Weekly
END:VEVENT
BEGIN:VEVENT
DTSTART;TZID=America/Chicago:20260806T093000
DTEND;TZID=America/Chicago:20260806T113000
DTSTAMP:20260420T055507
CREATED:20260224T210347Z
LAST-MODIFIED:20260224T210347Z
UID:10001305-1786008600-1786015800@www.eyc.org
SUMMARY:Thursday Open Play Bridge
DESCRIPTION:
URL:https://www.eyc.org/event/thursday-open-play-bridge/2026-08-06/
CATEGORIES:Bridge,Social Activities,Weekly
END:VEVENT
BEGIN:VEVENT
DTSTART;TZID=America/Chicago:20260810T130000
DTEND;TZID=America/Chicago:20260810T150000
DTSTAMP:20260420T055507
CREATED:20260224T204926Z
LAST-MODIFIED:20260415T182902Z
UID:10001224-1786366800-1786374000@www.eyc.org
SUMMARY:Monday Bridge - Open Play
DESCRIPTION:
URL:https://www.eyc.org/event/bridge-open-play-2/2026-08-10/
LOCATION:Ephraim Yacht Club\, 10071 Water Street\, Ephraim\, WI\, 54211\, United States
CATEGORIES:Bridge,Social Activities,Weekly
END:VEVENT
BEGIN:VEVENT
DTSTART;TZID=America/Chicago:20260811T163000
DTEND;TZID=America/Chicago:20260811T183000
DTSTAMP:20260420T055507
CREATED:20260224T205542Z
LAST-MODIFIED:20260415T182954Z
UID:10001263-1786465800-1786473000@www.eyc.org
SUMMARY:Tuesday Partners Bridge
DESCRIPTION:
URL:https://www.eyc.org/event/partners-bridge-2/2026-08-11/
CATEGORIES:Bridge,Social Activities,Weekly
END:VEVENT
BEGIN:VEVENT
DTSTART;TZID=America/Chicago:20260813T093000
DTEND;TZID=America/Chicago:20260813T113000
DTSTAMP:20260420T055507
CREATED:20260224T210347Z
LAST-MODIFIED:20260224T210347Z
UID:10001306-1786613400-1786620600@www.eyc.org
SUMMARY:Thursday Open Play Bridge
DESCRIPTION:
URL:https://www.eyc.org/event/thursday-open-play-bridge/2026-08-13/
CATEGORIES:Bridge,Social Activities,Weekly
END:VEVENT
BEGIN:VEVENT
DTSTART;TZID=America/Chicago:20260817T130000
DTEND;TZID=America/Chicago:20260817T150000
DTSTAMP:20260420T055507
CREATED:20260224T204926Z
LAST-MODIFIED:20260415T182902Z
UID:10001225-1786971600-1786978800@www.eyc.org
SUMMARY:Monday Bridge - Open Play
DESCRIPTION:
URL:https://www.eyc.org/event/bridge-open-play-2/2026-08-17/
LOCATION:Ephraim Yacht Club\, 10071 Water Street\, Ephraim\, WI\, 54211\, United States
CATEGORIES:Bridge,Social Activities,Weekly
END:VEVENT
BEGIN:VEVENT
DTSTART;TZID=America/Chicago:20260818T163000
DTEND;TZID=America/Chicago:20260818T183000
DTSTAMP:20260420T055507
CREATED:20260224T205542Z
LAST-MODIFIED:20260415T182954Z
UID:10001264-1787070600-1787077800@www.eyc.org
SUMMARY:Tuesday Partners Bridge
DESCRIPTION:
URL:https://www.eyc.org/event/partners-bridge-2/2026-08-18/
CATEGORIES:Bridge,Social Activities,Weekly
END:VEVENT
END:VCALENDAR