BEGIN:VCALENDAR
VERSION:2.0
PRODID:-//Ephraim Yacht Club - ECPv6.15.20//NONSGML v1.0//EN
CALSCALE:GREGORIAN
METHOD:PUBLISH
X-ORIGINAL-URL:https://www.eyc.org
X-WR-CALDESC:Events for Ephraim Yacht Club
REFRESH-INTERVAL;VALUE=DURATION:PT1H
X-Robots-Tag:noindex
X-PUBLISHED-TTL:PT1H
BEGIN:VTIMEZONE
TZID:America/Chicago
BEGIN:DAYLIGHT
TZOFFSETFROM:-0600
TZOFFSETTO:-0500
TZNAME:CDT
DTSTART:20240310T080000
END:DAYLIGHT
BEGIN:STANDARD
TZOFFSETFROM:-0500
TZOFFSETTO:-0600
TZNAME:CST
DTSTART:20241103T070000
END:STANDARD
BEGIN:DAYLIGHT
TZOFFSETFROM:-0600
TZOFFSETTO:-0500
TZNAME:CDT
DTSTART:20250309T080000
END:DAYLIGHT
BEGIN:STANDARD
TZOFFSETFROM:-0500
TZOFFSETTO:-0600
TZNAME:CST
DTSTART:20251102T070000
END:STANDARD
BEGIN:DAYLIGHT
TZOFFSETFROM:-0600
TZOFFSETTO:-0500
TZNAME:CDT
DTSTART:20260308T080000
END:DAYLIGHT
BEGIN:STANDARD
TZOFFSETFROM:-0500
TZOFFSETTO:-0600
TZNAME:CST
DTSTART:20261101T070000
END:STANDARD
END:VTIMEZONE
BEGIN:VEVENT
DTSTART;TZID=America/Chicago:20250808T180000
DTEND;TZID=America/Chicago:20250808T200000
DTSTAMP:20260421T202436
CREATED:20250224T170817Z
LAST-MODIFIED:20250224T170817Z
UID:10001131-1754676000-1754683200@www.eyc.org
SUMMARY:RS Tera/420/Laser & Laser Master Series Races
DESCRIPTION:Laser Master’s Series held on alternating weeks in conjunction with Laser race.
URL:https://www.eyc.org/event/rs-tera-420-laser-laser-master-series-races/2025-08-08/
LOCATION:Ephraim Yacht Club\, 10071 Water Street\, Ephraim\, WI\, 54211\, United States
CATEGORIES:420,Lasers,Racing,RS Tera
END:VEVENT
BEGIN:VEVENT
DTSTART;TZID=America/Chicago:20250805T180000
DTEND;TZID=America/Chicago:20250805T200000
DTSTAMP:20260421T202436
CREATED:20250224T165035Z
LAST-MODIFIED:20250224T165101Z
UID:10001073-1754416800-1754424000@www.eyc.org
SUMMARY:Opti/RS Tera Series Races
DESCRIPTION:
URL:https://www.eyc.org/event/optis-rs-tera-series-races/2025-08-05/
LOCATION:Ephraim Yacht Club\, 10071 Water Street\, Ephraim\, WI\, 54211\, United States
CATEGORIES:Opti,Racing,RS Tera
END:VEVENT
BEGIN:VEVENT
DTSTART;TZID=America/Chicago:20250729T180000
DTEND;TZID=America/Chicago:20250729T200000
DTSTAMP:20260421T202436
CREATED:20250224T165035Z
LAST-MODIFIED:20250224T165101Z
UID:10001072-1753812000-1753819200@www.eyc.org
SUMMARY:Opti/RS Tera Series Races
DESCRIPTION:
URL:https://www.eyc.org/event/optis-rs-tera-series-races/2025-07-29/
LOCATION:Ephraim Yacht Club\, 10071 Water Street\, Ephraim\, WI\, 54211\, United States
CATEGORIES:Opti,Racing,RS Tera
END:VEVENT
BEGIN:VEVENT
DTSTART;TZID=America/Chicago:20250725T180000
DTEND;TZID=America/Chicago:20250725T200000
DTSTAMP:20260421T202436
CREATED:20250224T170817Z
LAST-MODIFIED:20250224T170817Z
UID:10001130-1753466400-1753473600@www.eyc.org
SUMMARY:RS Tera/420/Laser & Laser Master Series Races
DESCRIPTION:Laser Master’s Series held on alternating weeks in conjunction with Laser race.
URL:https://www.eyc.org/event/rs-tera-420-laser-laser-master-series-races/2025-07-25/
LOCATION:Ephraim Yacht Club\, 10071 Water Street\, Ephraim\, WI\, 54211\, United States
CATEGORIES:420,Lasers,Racing,RS Tera
END:VEVENT
BEGIN:VEVENT
DTSTART;TZID=America/Chicago:20250722T180000
DTEND;TZID=America/Chicago:20250722T200000
DTSTAMP:20260421T202436
CREATED:20250224T165035Z
LAST-MODIFIED:20250224T165101Z
UID:10001071-1753207200-1753214400@www.eyc.org
SUMMARY:Opti/RS Tera Series Races
DESCRIPTION:
URL:https://www.eyc.org/event/optis-rs-tera-series-races/2025-07-22/
LOCATION:Ephraim Yacht Club\, 10071 Water Street\, Ephraim\, WI\, 54211\, United States
CATEGORIES:Opti,Racing,RS Tera
END:VEVENT
BEGIN:VEVENT
DTSTART;TZID=America/Chicago:20250718T180000
DTEND;TZID=America/Chicago:20250718T200000
DTSTAMP:20260421T202436
CREATED:20250224T170817Z
LAST-MODIFIED:20250224T170817Z
UID:10001129-1752861600-1752868800@www.eyc.org
SUMMARY:RS Tera/420/Laser & Laser Master Series Races
DESCRIPTION:Laser Master’s Series held on alternating weeks in conjunction with Laser race.
URL:https://www.eyc.org/event/rs-tera-420-laser-laser-master-series-races/2025-07-18/
LOCATION:Ephraim Yacht Club\, 10071 Water Street\, Ephraim\, WI\, 54211\, United States
CATEGORIES:420,Lasers,Racing,RS Tera
END:VEVENT
BEGIN:VEVENT
DTSTART;TZID=America/Chicago:20250715T180000
DTEND;TZID=America/Chicago:20250715T200000
DTSTAMP:20260421T202436
CREATED:20250224T165035Z
LAST-MODIFIED:20250224T165101Z
UID:10001070-1752602400-1752609600@www.eyc.org
SUMMARY:Opti/RS Tera Series Races
DESCRIPTION:
URL:https://www.eyc.org/event/optis-rs-tera-series-races/2025-07-15/
LOCATION:Ephraim Yacht Club\, 10071 Water Street\, Ephraim\, WI\, 54211\, United States
CATEGORIES:Opti,Racing,RS Tera
END:VEVENT
BEGIN:VEVENT
DTSTART;TZID=America/Chicago:20250711T180000
DTEND;TZID=America/Chicago:20250711T200000
DTSTAMP:20260421T202436
CREATED:20250224T170817Z
LAST-MODIFIED:20250224T170817Z
UID:10001128-1752256800-1752264000@www.eyc.org
SUMMARY:RS Tera/420/Laser & Laser Master Series Races
DESCRIPTION:Laser Master’s Series held on alternating weeks in conjunction with Laser race.
URL:https://www.eyc.org/event/rs-tera-420-laser-laser-master-series-races/2025-07-11/
LOCATION:Ephraim Yacht Club\, 10071 Water Street\, Ephraim\, WI\, 54211\, United States
CATEGORIES:420,Lasers,Racing,RS Tera
END:VEVENT
BEGIN:VEVENT
DTSTART;TZID=America/Chicago:20250708T180000
DTEND;TZID=America/Chicago:20250708T200000
DTSTAMP:20260421T202436
CREATED:20250224T165035Z
LAST-MODIFIED:20250224T165101Z
UID:10001069-1751997600-1752004800@www.eyc.org
SUMMARY:Opti/RS Tera Series Races
DESCRIPTION:
URL:https://www.eyc.org/event/optis-rs-tera-series-races/2025-07-08/
LOCATION:Ephraim Yacht Club\, 10071 Water Street\, Ephraim\, WI\, 54211\, United States
CATEGORIES:Opti,Racing,RS Tera
END:VEVENT
BEGIN:VEVENT
DTSTART;TZID=America/Chicago:20250704T180000
DTEND;TZID=America/Chicago:20250704T200000
DTSTAMP:20260421T202436
CREATED:20250224T170817Z
LAST-MODIFIED:20250224T170817Z
UID:10001127-1751652000-1751659200@www.eyc.org
SUMMARY:RS Tera/420/Laser & Laser Master Series Races
DESCRIPTION:Laser Master’s Series held on alternating weeks in conjunction with Laser race.
URL:https://www.eyc.org/event/rs-tera-420-laser-laser-master-series-races/2025-07-04/
LOCATION:Ephraim Yacht Club\, 10071 Water Street\, Ephraim\, WI\, 54211\, United States
CATEGORIES:420,Lasers,Racing,RS Tera
END:VEVENT
BEGIN:VEVENT
DTSTART;TZID=America/Chicago:20250701T180000
DTEND;TZID=America/Chicago:20250701T200000
DTSTAMP:20260421T202436
CREATED:20250224T165035Z
LAST-MODIFIED:20250224T165101Z
UID:10001068-1751392800-1751400000@www.eyc.org
SUMMARY:Opti/RS Tera Series Races
DESCRIPTION:
URL:https://www.eyc.org/event/optis-rs-tera-series-races/2025-07-01/
LOCATION:Ephraim Yacht Club\, 10071 Water Street\, Ephraim\, WI\, 54211\, United States
CATEGORIES:Opti,Racing,RS Tera
END:VEVENT
BEGIN:VEVENT
DTSTART;TZID=America/Chicago:20250627T180000
DTEND;TZID=America/Chicago:20250627T200000
DTSTAMP:20260421T202436
CREATED:20250224T170817Z
LAST-MODIFIED:20250224T170817Z
UID:10001126-1751047200-1751054400@www.eyc.org
SUMMARY:RS Tera/420/Laser & Laser Master Series Races
DESCRIPTION:Laser Master’s Series held on alternating weeks in conjunction with Laser race.
URL:https://www.eyc.org/event/rs-tera-420-laser-laser-master-series-races/2025-06-27/
LOCATION:Ephraim Yacht Club\, 10071 Water Street\, Ephraim\, WI\, 54211\, United States
CATEGORIES:420,Lasers,Racing,RS Tera
END:VEVENT
BEGIN:VEVENT
DTSTART;TZID=America/Chicago:20250624T180000
DTEND;TZID=America/Chicago:20250624T200000
DTSTAMP:20260421T202436
CREATED:20250224T165035Z
LAST-MODIFIED:20250224T165101Z
UID:10001067-1750788000-1750795200@www.eyc.org
SUMMARY:Opti/RS Tera Series Races
DESCRIPTION:
URL:https://www.eyc.org/event/optis-rs-tera-series-races/2025-06-24/
LOCATION:Ephraim Yacht Club\, 10071 Water Street\, Ephraim\, WI\, 54211\, United States
CATEGORIES:Opti,Racing,RS Tera
END:VEVENT
BEGIN:VEVENT
DTSTART;TZID=America/Chicago:20250620T180000
DTEND;TZID=America/Chicago:20250620T200000
DTSTAMP:20260421T202436
CREATED:20250224T170817Z
LAST-MODIFIED:20250224T170817Z
UID:10001125-1750442400-1750449600@www.eyc.org
SUMMARY:RS Tera/420/Laser & Laser Master Series Races
DESCRIPTION:Laser Master’s Series held on alternating weeks in conjunction with Laser race.
URL:https://www.eyc.org/event/rs-tera-420-laser-laser-master-series-races/2025-06-20/
LOCATION:Ephraim Yacht Club\, 10071 Water Street\, Ephraim\, WI\, 54211\, United States
CATEGORIES:420,Lasers,Racing,RS Tera
END:VEVENT
BEGIN:VEVENT
DTSTART;TZID=America/Chicago:20250617T180000
DTEND;TZID=America/Chicago:20250617T200000
DTSTAMP:20260421T202436
CREATED:20250224T165035Z
LAST-MODIFIED:20250224T165101Z
UID:10001066-1750183200-1750190400@www.eyc.org
SUMMARY:Opti/RS Tera Series Races
DESCRIPTION:
URL:https://www.eyc.org/event/optis-rs-tera-series-races/2025-06-17/
LOCATION:Ephraim Yacht Club\, 10071 Water Street\, Ephraim\, WI\, 54211\, United States
CATEGORIES:Opti,Racing,RS Tera
END:VEVENT
BEGIN:VEVENT
DTSTART;TZID=America/Chicago:20250613T180000
DTEND;TZID=America/Chicago:20250613T200000
DTSTAMP:20260421T202436
CREATED:20250224T170817Z
LAST-MODIFIED:20250224T170817Z
UID:10001124-1749837600-1749844800@www.eyc.org
SUMMARY:RS Tera/420/Laser & Laser Master Series Races
DESCRIPTION:Laser Master’s Series held on alternating weeks in conjunction with Laser race.
URL:https://www.eyc.org/event/rs-tera-420-laser-laser-master-series-races/2025-06-13/
LOCATION:Ephraim Yacht Club\, 10071 Water Street\, Ephraim\, WI\, 54211\, United States
CATEGORIES:420,Lasers,Racing,RS Tera
END:VEVENT
BEGIN:VEVENT
DTSTART;TZID=America/Chicago:20250610T180000
DTEND;TZID=America/Chicago:20250610T200000
DTSTAMP:20260421T202436
CREATED:20250224T165035Z
LAST-MODIFIED:20250224T165101Z
UID:10001065-1749578400-1749585600@www.eyc.org
SUMMARY:Opti/RS Tera Series Races
DESCRIPTION:
URL:https://www.eyc.org/event/optis-rs-tera-series-races/2025-06-10/
LOCATION:Ephraim Yacht Club\, 10071 Water Street\, Ephraim\, WI\, 54211\, United States
CATEGORIES:Opti,Racing,RS Tera
END:VEVENT
END:VCALENDAR